BEGIN:VCALENDAR
VERSION:2.0
PRODID:-//ChamberMaster//Event Calendar 2.0//EN
METHOD:PUBLISH
X-PUBLISHED-TTL:P3D
REFRESH-INTERVAL:P3D
CALSCALE:GREGORIAN
BEGIN:VEVENT
DTSTART:20151021T200000Z
DTEND:20151021T220000Z
X-MICROSOFT-CDO-ALLDAYEVENT:FALSE
SUMMARY:ZoppÃ© Family Circus
DESCRIPTION:A Family Circus benefiting Three Rivers Charter School. Â Since 1842 the Zoppe Family Circus has welcomedd guests into their tent for a one-ring circus that honors the best history of the Old-World Italian tradition.Here for 7 shows in Fort Bragg!Thursday\, October 29 at 7PMFriday\, October 30 at 4PMFriday\, October 30 at 7PMSaturday\, October 31 at 1PMSaturday\, October 31 at 4PMSunday\, November 1 at 1PMSunday\, November 1 at 4PM
X-ALT-DESC;FMTTYPE=text/html:<p>A Family Circus benefiting Three Rivers Charter School. Â Since 1842 the Zoppe Family Circus has welcomedd guests into their tent for a one-ring circus that honors the best history of the Old-World Italian tradition.</p><p>Here for 7 shows in Fort Bragg!</p><ul><li>Thursday\, October 29 at 7PM</li><li>Friday\, October 30 at 4PM</li><li>Friday\, October 30 at 7PM</li><li>Saturday\, October 31 at 1PM</li><li>Saturday\, October 31 at 4PM</li><li>Sunday\, November 1 at 1PM</li><li>Sunday\, November 1 at 4PM</li></ul>
LOCATION:Todd's Point Field Fort Bragg
UID:e.2883.760
SEQUENCE:3
DTSTAMP:20260422T015611Z
URL:https://mendocinocoast.com/events/details/zopp&#227;-family-circus-10-21-2015-760
END:VEVENT

END:VCALENDAR
