BEGIN:VCALENDAR
VERSION:2.0
PRODID:-//ChamberMaster//Event Calendar 2.0//EN
METHOD:PUBLISH
X-PUBLISHED-TTL:P3D
REFRESH-INTERVAL:P3D
CALSCALE:GREGORIAN
BEGIN:VEVENT
DTSTART:20141029T210000Z
DTEND:20141030T010000Z
X-MICROSOFT-CDO-ALLDAYEVENT:FALSE
SUMMARY:Zoppe Family Circus
DESCRIPTION:Three Rivers Charter School andThe ZoppÃ© Family Circus welcome guests into the intimate 500-seat tent for a one-ring circus that honors the best history of the Old-World Italian tradition. Starring Nino the clown\, the circus is propelled by a central story (as opposed to individual acts) with acrobatic feats\, equestrian showmanship\, canine capers\, clowning and plenty of audience participation. Giovanni ZoppÃ©\, the sixth-generation circus performer who plays Nino\, says the show aims higher than what passes for circuses these days. "We try to touch every emotion during the show\," he says. "They'll laugh\, they'll cry\, and they'll feel for the characters. It's more of an event than a show.â€Â Buy tickets atÂ http://www.brownpapertickets.com/event/884565 or call the School (964-1128) and we'll get the tickets to YOU! Times today 1:00 and 4:00pm
X-ALT-DESC;FMTTYPE=text/html:<p>Three Rivers Charter School andThe ZoppÃ© Family Circus welcome guests into the intimate 500-seat tent for a one-ring circus that honors the best history of the Old-World Italian tradition. Starring Nino the clown\, the circus is propelled by a central story (as opposed to individual acts) with acrobatic feats\, equestrian showmanship\, canine capers\, clowning and plenty of audience participation. Giovanni ZoppÃ©\, the sixth-generation circus performer who plays Nino\, says the show aims higher than what passes for circuses these days. "We try to touch every emotion during the show\," he says. "They'll laugh\, they'll cry\, and they'll feel for the characters. It's more of an event than a show.â€Â Buy tickets atÂ <a href="http://www.brownpapertickets.com/event/884565">http://www.brownpapertickets.com/event/884565</a> or call the School (964-1128) and we'll get the tickets to YOU! Times today 1:00 and 4:00pm</p>
LOCATION:Oceanview Drive Fort Bragg Ca
UID:e.2883.364
SEQUENCE:3
DTSTAMP:20260422T214348Z
URL:https://mendocinocoast.com/events/details/zoppe-family-circus-10-29-2014-364
END:VEVENT

END:VCALENDAR
