BEGIN:VCALENDAR
VERSION:2.0
PRODID:-//ChamberMaster//Event Calendar 2.0//EN
METHOD:PUBLISH
X-PUBLISHED-TTL:P3D
REFRESH-INTERVAL:P3D
CALSCALE:GREGORIAN
BEGIN:VEVENT
DTSTART;VALUE=DATE:20150601
DTEND;VALUE=DATE:20150602
TRANSP:TRANSPARENT
X-MICROSOFT-CDO-ALLDAYEVENT:TRUE
SUMMARY:Zombie Walk & Apocalypse Dance\, a Benefit for Kids/Teens Fighting Cancer
DESCRIPTION:Walk Registration & Makeup\n3:00 PM-5:00 PM \nFort Bragg Lions Hall \n430 E. Redwood Ave\, Ft. Bragg\n\n8 block walk begins at 5:00 PM. \nWalk and dance is for ALL AGES! \nMake-up available...if you need it!\nDance with DJ Dirk! 6:30 PM-10:00 PM\nHot dogs\, Nachos\, Tamales\, & snacks with Full Bar and sodas also available for sale!\n\nThis is a benefit walk to help our local kids and teens with Cancer. Proceeds will help families travel for out-of town treatments.\n\nRegistration:\n\nIf you come already dressed and made up as a zombie:\nWALK ONLY:	$ 5.00Â \nDANCE ONLY:	$ 10.00Â \nWALK & DANCE ONLY $ 15.00\n\nIf you want makeup:\nWALK & MAKEUP:	$ 15.00\n(We can do it for you!)\n\nFULL Package:	$ 25.00Â \nPackage Includes Registration\, Make up and dance\n\nKIDS UNDER 10	$ 5.00Â \nFor FULL Package\n\nTICKETS will be available (beginning June 1) at Harvest Market/Boatyard\nor: Call 707-961-1727\nor: Email fblions@mcn.org
X-ALT-DESC;FMTTYPE=text/html:<p><span>Walk Registration &amp\; Makeup</span><br /><strong>3:00 PM-5:00 PM </strong><br /><span>Fort Bragg Lions Hall </span><br /><span>430 E. Redwood Ave\, Ft. Bragg</span><br /><br /><span>8 block walk begins at <strong>5:00 PM. </strong></span><br /><span>Walk and dance is for ALL AGES! </span><br /><span>Make-up available...if you need it!</span><br /><span>Dance with DJ Dirk! <strong>6:30 PM-10:00 PM</strong></span><br /><span>Hot dogs\, Nachos\, Tamales\, &amp\; snacks with Full Bar and sodas also available for sale!</span><br /><br /><span>This is a benefit walk to help our local kids and teens with Cancer. Proceeds will help families travel for out-of town treatments.</span><span><br /><br />Registration:<br /><br />If you come already dressed and made up as a zombie:<br />WALK ONLY:	$ 5.00Â <br />DANCE ONLY:	$ 10.00Â <br />WALK &amp\; DANCE ONLY $ 15.00<br /><br />If you want makeup:<br />WALK &amp\; MAKEUP:	$ 15.00<br />(We can do it for you!)<br /><br />FULL Package:	$ 25.00Â <br />Package Includes Registration\, Make up and dance<br /><br />KIDS UNDER 10	$ 5.00Â <br />For FULL Package<br /><br />TICKETS will be available (beginning June 1) at Harvest Market/Boatyard<br />or: Call 707-961-1727<br />or: Email fblions@mcn.org</span></p>
LOCATION:Fort Bragg Lions Hall
UID:e.2883.637
SEQUENCE:3
DTSTAMP:20260422T101939Z
URL:https://mendocinocoast.com/events/details/zombie-walk-apocalypse-dance-a-benefit-for-kids-teens-fighting-cancer-06-01-2015-637
END:VEVENT

END:VCALENDAR
