BEGIN:VCALENDAR
VERSION:2.0
PRODID:-//ChamberMaster//Event Calendar 2.0//EN
METHOD:PUBLISH
X-PUBLISHED-TTL:P3D
REFRESH-INTERVAL:P3D
CALSCALE:GREGORIAN
BEGIN:VEVENT
DTSTART;VALUE=DATE:20141211
DTEND;VALUE=DATE:20141212
TRANSP:TRANSPARENT
X-MICROSOFT-CDO-ALLDAYEVENT:TRUE
SUMMARY:You can draw this! Drawing classes
DESCRIPTION:Join Suzi Long for a 90-minute class and learn to map and measure\, mix colors\, a little about perspective\, and lots more!DROP IN\nFri-Sat\n10-11:30 a.m.or call for appointment annother day.$45 for 90 minutes. Bring a friend and save $10 each.\nMaterials available.Classes take place at \nThe World of Suzi Long\nWatertower Gallery\nAlbion at Kasten\nMendocinoCall 707-937-5664 for more information
X-ALT-DESC;FMTTYPE=text/html:<p>Join Suzi Long for a 90-minute class and learn to map and measure\, mix colors\, a little about perspective\, and lots more!</p><p>DROP IN<br />Fri-Sat<br />10-11:30 a.m.</p><p>or call for appointment annother day.</p><p>$45 for 90 minutes. Bring a friend and save $10 each.<br />Materials available.</p><p>Classes take place at <br />The World of Suzi Long<br />Watertower Gallery<br />Albion at Kasten<br />Mendocino</p><p>Call 707-937-5664 for more information</p>
LOCATION:Watertower Gallery Mendocino CA
UID:e.2883.402
SEQUENCE:3
DTSTAMP:20260422T181553Z
URL:https://mendocinocoast.com/events/details/you-can-draw-this-drawing-classes-12-11-2014-402
END:VEVENT

END:VCALENDAR
