BEGIN:VCALENDAR
VERSION:2.0
PRODID:-//ChamberMaster//Event Calendar 2.0//EN
METHOD:PUBLISH
X-PUBLISHED-TTL:P3D
REFRESH-INTERVAL:P3D
CALSCALE:GREGORIAN
BEGIN:VEVENT
DTSTART;VALUE=DATE:20151113
DTEND;VALUE=DATE:20151114
TRANSP:TRANSPARENT
X-MICROSOFT-CDO-ALLDAYEVENT:TRUE
SUMMARY:Wrestling Tournament
DESCRIPTION:The Timberwolves Wrestling Team will be hosting a wrestling tournament at Fort Bragg High School on Dec 19. Approximately 20 teams will be attending and you will see some very good high school wrestlers in action. Last year the Timberwolves were the CIF division 3 dual meet champions and most are back for another season.
X-ALT-DESC;FMTTYPE=text/html:<p><span>The Timberwolves Wrestling Team will be hosting a wrestling tournament at Fort Bragg High School on Dec 19. Approximately 20 teams will be attending and you will see some very good high school wrestlers in action. Last year the Timberwolves were the CIF division 3 dual meet champions and most are back for another season.</span></p>
LOCATION:Fort Bragg High School
UID:e.2883.785
SEQUENCE:3
DTSTAMP:20260422T014852Z
URL:https://mendocinocoast.com/events/details/wrestling-tournament-11-13-2015-785
END:VEVENT

END:VCALENDAR
