BEGIN:VCALENDAR
VERSION:2.0
PRODID:-//ChamberMaster//Event Calendar 2.0//EN
METHOD:PUBLISH
X-PUBLISHED-TTL:P3D
REFRESH-INTERVAL:P3D
CALSCALE:GREGORIAN
BEGIN:VEVENT
DTSTART:20160112T190000Z
DTEND:20160112T210000Z
X-MICROSOFT-CDO-ALLDAYEVENT:FALSE
SUMMARY:Workshop: Rhododendron Basic Care
DESCRIPTION:Rhododendron Basics\nFebruary 20\, March 19\, or April 2\n10:00am to 12:00pm in the Gardens Meeting Room\nwith Dennis McKiver Learn to identify and care for Rhododendrons growing in your yard. Our cool coastal climate\, acidic soils\, and mild winters allow many beautiful cultivars and species to thrive. Dennis McKiver - president of the American Rhododendron Societyâ€™s local chapter - will teach proper planting and plant medium\, fertilizing\, pruning\, as well as disease and pest control. Expand your collection by learning to choose the right hybrids and species for your area while touring the Rhododendron Collection at Mendocino Coast Botanical Gardens.Â Dennis McKiver has been growing and collecting Rhododendrons since 2001. His collection has over 1\,000 hybrid and species Rhododendrons.Â $20 non-members\; $10 members and Master Gardeners\nIncludes Gardens admission for the day!Â Class size is limited\; sign up by phoning in your payment at 707-964-4352 ext. 16 or reserve your spot in person at The Garden Store at MCBG.Â MENDOCINO COAST BOTANICAL GARDENS\n18220 NORTH HIGHWAY 1 . FORT BRAGG\, CA\n707-964-4352 EXT 16 . GARDENBYTHESEA.ORGÂ
X-ALT-DESC;FMTTYPE=text/html:<p style="text-align:center\;"><strong><span style="font-size:large\;">Rhododendron Basics</span></strong><br /><strong><span style="font-size:large\;">February 20\, March 19\, or April 2</span></strong><br /><span style="font-size:large\;"><strong>10:00am to 12:00pm in the Gardens Meeting Room</strong><br /></span><span style="font-size:large\;">with Dennis McKiver </span></p><p><span style="font-size:medium\;">Learn to identify and care for Rhododendrons growing in your yard. Our cool coastal climate\, acidic soils\, and mild winters allow many beautiful cultivars and species to thrive. Dennis McKiver - president of the American Rhododendron Societyâ€™s local chapter - will teach proper planting and plant medium\, fertilizing\, pruning\, as well as disease and pest control. Expand your collection by learning to choose the right hybrids and species for your area while touring the Rhododendron Collection at Mendocino Coast Botanical Gardens.</span></p><p>Â </p><p><em><span style="font-size:medium\;">Dennis McKiver has been growing and collecting Rhododendrons since 2001. His collection has over 1\,000 hybrid and species Rhododendrons.</span></em></p><p>Â </p><p><span style="font-size:medium\;">$20 non-members\; $10 members and Master Gardeners<br /></span><span style="font-size:medium\;">Includes Gardens admission for the day!</span></p><p>Â </p><p><span style="font-size:medium\;">Class size is limited\; sign up by phoning in your payment at 707-964-4352 ext. 16 or reserve your spot in person at The Garden Store at MCBG.</span></p><p>Â </p><p><span style="font-size:small\;">MENDOCINO COAST BOTANICAL GARDENS<br />18220 NORTH HIGHWAY 1 . FORT BRAGG\, CA<br />707-964-4352 EXT 16 . <a style="font-size:medium\;" href="http://GARDENBYTHESEA.ORG">GARDENBYTHESEA.ORG</a></span></p><p>Â </p>
LOCATION:Mendocino Coast Botanical Gardens Fort Bragg
UID:e.2883.826
SEQUENCE:3
DTSTAMP:20260421T205832Z
URL:https://mendocinocoast.com/events/details/workshop-rhododendron-basic-care-01-12-2016-826
END:VEVENT

END:VCALENDAR
