BEGIN:VCALENDAR
VERSION:2.0
PRODID:-//ChamberMaster//Event Calendar 2.0//EN
METHOD:PUBLISH
X-PUBLISHED-TTL:P3D
REFRESH-INTERVAL:P3D
CALSCALE:GREGORIAN
BEGIN:VEVENT
DTSTART:20151023T180000Z
DTEND:20151023T200000Z
X-MICROSOFT-CDO-ALLDAYEVENT:FALSE
SUMMARY:Workshop: Growing\, Processing\, and Eating Quinoa at Mendocino Coast Botanical Gardens
DESCRIPTION:Learn to harness the natural powerhouse of a grain\, QUINOA!Join Staff Gardener\, Jaime Jensen\, at the Gardens Meeting Room. Quinoa is an ideal addition to your North Coast garden. The cool coastal weather\, low threat of frost and even the recent dry weather we have been experiencing . Quinoa is also perfect for the dinner table\, a high-protein super grain!Classes are $10 Members and Master Gardeners\, $20 Non-Members (includes Gardens admission). Visit https://www.facebook.com/events/539683392863789/ for more info.
X-ALT-DESC;FMTTYPE=text/html:<p><strong>Learn to harness the natural powerhouse of a grain\, QUINOA!</strong></p><p>Join Staff Gardener\, Jaime Jensen\, at the Gardens Meeting Room. Quinoa is an ideal addition to your North Coast garden. The cool coastal weather\, low threat of frost and even the recent dry weather we have been experiencing . Quinoa is also perfect for the dinner table\, a high-protein super grain!</p><p>Classes are $10 Members and Master Gardeners\, $20 Non-Members (includes Gardens admission). Visit https://www.facebook.com/events/539683392863789/ for more info.</p>
LOCATION:Mendocino Coast Botanical Gardens Fort Bragg
UID:e.2883.766
SEQUENCE:3
DTSTAMP:20260422T020818Z
URL:https://mendocinocoast.com/events/details/workshop-growing-processing-and-eating-quinoa-at-mendocino-coast-botanical-gardens-10-23-2015-766
END:VEVENT

END:VCALENDAR
