BEGIN:VCALENDAR
VERSION:2.0
PRODID:-//ChamberMaster//Event Calendar 2.0//EN
METHOD:PUBLISH
X-PUBLISHED-TTL:P3D
REFRESH-INTERVAL:P3D
CALSCALE:GREGORIAN
BEGIN:VEVENT
DTSTART:20141029T180000Z
DTEND:20141030T010000Z
X-MICROSOFT-CDO-ALLDAYEVENT:FALSE
SUMMARY:"Workers" Oil on Canvas by Rosemary Allen
DESCRIPTION:Rosemary Allen is showing eight of her California Worker paintings\, part of a series of construction workers and the urban farmers who are changing the landscape of our state. Ms. Allen works with oils on canvas and has chosen a large format\, 4 ft. wide by 6 ft. tall\, which give her heroic workers a nobility and dignity.Â There is a First Friday Reception Nov 7\, 5-8pm with wine provided by Signal Ridge Vineyard and mushroom appetizers are featured. Â Through December 1.Â Partners Gallery is open Wednesday through Monday 10 am to 5 pm and Sundays 10 am to 4 pm. The gallery is closed on Thanksgiving.707 962-0233 Â http://www.partnersgallery.com
X-ALT-DESC;FMTTYPE=text/html:<p>Rosemary Allen is showing eight of her California Worker paintings\, part of a series of construction workers and the urban farmers who are changing the landscape of our state. Ms. Allen works with oils on canvas and has chosen a large format\, 4 ft. wide by 6 ft. tall\, which give her heroic workers a nobility and dignity.</p><p>Â </p><p>There is a First Friday Reception Nov 7\, 5-8pm with wine provided by Signal Ridge Vineyard and mushroom appetizers are featured. Â Through December 1.</p><p>Â </p><p>Partners Gallery is open Wednesday through Monday 10 am to 5 pm and Sundays 10 am to 4 pm. The gallery is closed on Thanksgiving.</p><p>707 962-0233 Â <span style="text-decoration:underline\;"><a href="http://www.partnersgallery.com">http://www.partnersgallery.com</a></span>&gt\;</p>
LOCATION:Partners Gallery Fort Bragg
UID:e.2883.360
SEQUENCE:3
DTSTAMP:20260422T214755Z
URL:https://mendocinocoast.com/events/details/workers-oil-on-canvas-by-rosemary-allen-10-29-2014-360
END:VEVENT

END:VCALENDAR
