BEGIN:VCALENDAR
VERSION:2.0
PRODID:-//ChamberMaster//Event Calendar 2.0//EN
METHOD:PUBLISH
X-PUBLISHED-TTL:P3D
REFRESH-INTERVAL:P3D
CALSCALE:GREGORIAN
BEGIN:VEVENT
DTSTART:20141116T190000Z
DTEND:20141117T020000Z
X-MICROSOFT-CDO-ALLDAYEVENT:FALSE
SUMMARY:Woodworkers Make Gifts: Mendocino Coast Furnituremakers @ Partners
DESCRIPTION:PARTNERS GALLERYWOODWORKERS MAKE GIFTSMENDOCINO COAST WOODWORKERS @ PARTNERS GALLERYÂ December 4 â€“ 28First Friday Reception December 5\, 5-8pmÂ â€œThe Mendocino Coast FurnitureMakers is presenting a gift show at Partnerâ€™s Gallery featuring locally made\, handcrafted holiday gifts.Â The gifts for children include a dollsâ€™ bed\, samurai and Elizabethan swords\, a puzzle chair that can be assembled in a variety of ways\, and pull toys for little ones. For the grown-ups on your list there are boxes to fill many needs: some open\, some with lids and sliding tops. There are serving trays\, small nested trays\, sushi trays\, turned bowls and vessels\, and a small cabinet that features straw marquetry. And more! These pieces are assembled from a variety of beautiful woods including walnut\, oak\, madrone\, pear\, bay laurel\, redwood\, and Jeutelong.Â Founded in 1997\, the Mendocino Coast FurnitureMakers is dedicated to the preservation and evolution of the fine art of furniture making. They specialize in custom designed\, one-of-a-kind pieces in both traditional and contemporary styles. The finest materials and proven hand techniques are used.Participants include Lee Baker\, Taimi Barty\, Hans Bruhner\, Michael Burns\, Mike Carroll\, Sam Cotton\, Kerry Marshall\, Jeff Noblet\, Paul Reiber\, Josh Smith and Judy Tarbell.Â Partners Gallery is located at 335N. Franklin Street in Fort Bragg and is open Wednesday through Monday 10 am to 5 pm and Sundays 10 am to 4 pm.707 962-0233 Â http://www.partnersgallery.com The gallery is closed on Christmas Day.
X-ALT-DESC;FMTTYPE=text/html:<p>PARTNERS GALLERY</p><p>WOODWORKERS MAKE GIFTS</p><p>MENDOCINO COAST WOODWORKERS @ PARTNERS GALLERY</p><p>Â </p><p>December 4 â€“ 28</p><p>First Friday Reception December 5\, 5-8pm</p><p>Â </p><p>â€œ</p><p>The Mendocino Coast FurnitureMakers is presenting a gift show at Partnerâ€™s Gallery featuring locally made\, handcrafted holiday gifts.</p><p>Â </p><p>The gifts for children include a dollsâ€™ bed\, samurai and Elizabethan swords\, a puzzle chair that can be assembled in a variety of ways\, and pull toys for little ones. For the grown-ups on your list there are boxes to fill many needs: some open\, some with lids and sliding tops. There are serving trays\, small nested trays\, sushi trays\, turned bowls and vessels\, and a small cabinet that features straw marquetry. And more! These pieces are assembled from a variety of beautiful woods including walnut\, oak\, madrone\, pear\, bay laurel\, redwood\, and Jeutelong.</p><p>Â </p><p>Founded in 1997\, the Mendocino Coast FurnitureMakers is dedicated to the preservation and evolution of the fine art of furniture making. They specialize in custom designed\, one-of-a-kind pieces in both traditional and contemporary styles. The finest materials and proven hand techniques are used.</p><p>Participants include Lee Baker\, Taimi Barty\, Hans Bruhner\, Michael Burns\, Mike Carroll\, Sam Cotton\, Kerry Marshall\, Jeff Noblet\, Paul Reiber\, Josh Smith and Judy Tarbell.</p><p>Â </p><p>Partners Gallery is located at 335N. Franklin Street in Fort Bragg and is open Wednesday through Monday 10 am to 5 pm and Sundays 10 am to 4 pm.</p><p>707 962-0233 Â <span style="text-decoration:underline\;"><a href="http://www.partnersgallery.com">http://www.partnersgallery.com</a></span>&gt\;</p><p>The gallery is closed on Christmas Day.</p>
LOCATION:Partners Gallery Fort Bragg
UID:e.2883.377
SEQUENCE:3
DTSTAMP:20260422T212310Z
URL:https://mendocinocoast.com/events/details/woodworkers-make-gifts-mendocino-coast-furnituremakers-partners-11-16-2014-377
END:VEVENT

END:VCALENDAR
