BEGIN:VCALENDAR
VERSION:2.0
PRODID:-//ChamberMaster//Event Calendar 2.0//EN
METHOD:PUBLISH
X-PUBLISHED-TTL:P3D
REFRESH-INTERVAL:P3D
CALSCALE:GREGORIAN
BEGIN:VEVENT
DTSTART:20151216T190000Z
DTEND:20151217T020100Z
X-MICROSOFT-CDO-ALLDAYEVENT:FALSE
SUMMARY:Wood & Gifts by Mendocino Coast Furnituremakers
DESCRIPTION:PARTNERS GALLERYMENDOCINO COAST FURNITUREMAKERS: WOOD & GIFTSÂ Continuing through January 28.Â The Mendocino Coast Furniture Makers are presenting locally made\, handcraftedholiday gifts at the Partners Gallery.Â The show includes childrenâ€™s gifts\, kitchen goodies\, serving trays\, small boxes\, and other finely crafted gifts. And more! All pieces are assembled from a variety of beautiful woods including walnut\, oak\, madrone\, bay laurel and redwood.Â Founded in 1997\, The Mendocino Coast Furniture Makers is dedicated to thepreservation and evolution of the fine art of building furniture. They specialize incustom designed\, one-of-a-kind pieces in both traditional and contemporarystyles. Only the finest materials and proven hand techniques are utilized.Â Participants include Lee Baker\, Hans Bruener\, Michael Burns\, Mike Carroll\,Frank Green\, Henry Hewett\, Kerry Marshall Paul Reiber\, Josh Smith\, and JudyTarbell.Quilts by Julie Burns are also on view.Â Partners Gallery is located at 335N. Franklin Street in Fort Bragg and is open Wednesday through Monday 10 am to 5 pm and Sundays 10 am to 4 pm.Closed Christmas Day and New Yearâ€™s Day707 962-0233Â  http://www.partnersgallery.com Â
X-ALT-DESC;FMTTYPE=text/html:<p>PARTNERS GALLERY</p><p>MENDOCINO COAST FURNITUREMAKERS: WOOD &amp\; GIFTS</p><p>Â </p><p>Continuing through January 28.</p><p>Â </p><p>The Mendocino Coast Furniture Makers are presenting locally made\, handcrafted</p><p>holiday gifts at the Partners Gallery.</p><p>Â </p><p>The show includes childrenâ€™s gifts\, kitchen goodies\, serving trays\, small boxes\, and other finely crafted gifts. And more! All pieces are assembled from a variety of beautiful woods including walnut\, oak\, madrone\, bay laurel and redwood.</p><p>Â </p><p>Founded in 1997\, The Mendocino Coast Furniture Makers is dedicated to the</p><p>preservation and evolution of the fine art of building furniture. They specialize in</p><p>custom designed\, one-of-a-kind pieces in both traditional and contemporary</p><p>styles. Only the finest materials and proven hand techniques are utilized.</p><p>Â </p><p>Participants include Lee Baker\, Hans Bruener\, Michael Burns\, Mike Carroll\,</p><p>Frank Green\, Henry Hewett\, Kerry Marshall Paul Reiber\, Josh Smith\, and Judy</p><p>Tarbell.</p><p>Quilts by Julie Burns are also on view.</p><p>Â </p><p>Partners Gallery is located at 335N. Franklin Street in Fort Bragg and is open Wednesday through Monday 10 am to 5 pm and Sundays 10 am to 4 pm.</p><p>Closed Christmas Day and New Yearâ€™s Day</p><p>707 962-0233Â  <a href="http://www.partnersgallery.com">http://www.partnersgallery.com</a>&gt\;</p><p>Â </p>
LOCATION:Partners Gallery Fort Bragg
UID:e.2883.814
SEQUENCE:3
DTSTAMP:20260422T003321Z
URL:https://mendocinocoast.com/events/details/wood-gifts-by-mendocino-coast-furnituremakers-12-16-2015-814
END:VEVENT

END:VCALENDAR
