BEGIN:VCALENDAR
VERSION:2.0
PRODID:-//ChamberMaster//Event Calendar 2.0//EN
METHOD:PUBLISH
X-PUBLISHED-TTL:P3D
REFRESH-INTERVAL:P3D
CALSCALE:GREGORIAN
BEGIN:VEVENT
DTSTART;VALUE=DATE:20150325
DTEND;VALUE=DATE:20150326
TRANSP:TRANSPARENT
X-MICROSOFT-CDO-ALLDAYEVENT:TRUE
SUMMARY:Winesong 2015
DESCRIPTION:Winesong 2015Featuring a weekend of award-winning wine\, spectacular food\, exquisite art and charitable giving.Friday\, September 11 and Saturday\, September 12\, 2015.Janis Porter Announced as 2015 Artist of the Year.\nA benefit for the Mendocino Coast District Hostpital\nHeld on the breathtaking Mendocino CoastTickets on sale Wednesday\, April 1Visit www.winesong.org for details.
X-ALT-DESC;FMTTYPE=text/html:<p>Winesong 2015</p><p>Featuring a weekend of award-winning wine\, spectacular food\, exquisite art and charitable giving.</p><p>Friday\, September 11 and Saturday\, September 12\, 2015.</p><p>Janis Porter Announced as 2015 Artist of the Year.<br />A benefit for the Mendocino Coast District Hostpital<br />Held on the breathtaking Mendocino Coast</p><p>Tickets on sale Wednesday\, April 1</p><p>Visit <a href="http://www.winesong.org" target="_blank">www.winesong.org</a> for details.</p>
LOCATION:Mendocino Coast District Hospital Fort Bragg
UID:e.2883.574
SEQUENCE:3
DTSTAMP:20260422T133143Z
URL:https://mendocinocoast.com/events/details/winesong-2015-03-25-2015-574
END:VEVENT

END:VCALENDAR
