BEGIN:VCALENDAR
VERSION:2.0
PRODID:-//ChamberMaster//Event Calendar 2.0//EN
METHOD:PUBLISH
X-PUBLISHED-TTL:P3D
REFRESH-INTERVAL:P3D
CALSCALE:GREGORIAN
BEGIN:VEVENT
DTSTART;VALUE=DATE:20140707
DTEND;VALUE=DATE:20140708
TRANSP:TRANSPARENT
X-MICROSOFT-CDO-ALLDAYEVENT:TRUE
SUMMARY:Winesong 2014
DESCRIPTION:Join us for Winesong's 30th year! Â Winesong is the premier charity event of the year featuring world class wines\, culinary delights\, captivating music ensembles\, spectacular art\, exotic trips and more...along the magical Mendocino Coast! Proceeds benefit the Mendocino Coast District Hospital.
X-ALT-DESC;FMTTYPE=text/html:<p><span style="font-size:medium\;font-family:&quot\;book antiqua&quot\;\, palatino\;">Join us for <em><strong>Winesong's</strong></em> 30th year! Â Winesong is the premier charity event of the year featuring world class wines\, culinary delights\, captivating music ensembles\, spectacular art\, exotic trips and more...along the magical Mendocino Coast! </span></p><p><span style="font-size:medium\;font-family:&quot\;book antiqua&quot\;\, palatino\;"><em><span style="font-size:small\;">Proceeds benefit the Mendocino Coast District Hospital.</span></em></span></p>
LOCATION:Mendocino Coast Botanical Gardens Fort Bragg
UID:e.2883.287
SEQUENCE:3
DTSTAMP:20260423T040327Z
URL:https://mendocinocoast.com/events/details/winesong-2014-07-07-2014-287
END:VEVENT

END:VCALENDAR
