BEGIN:VCALENDAR
VERSION:2.0
PRODID:-//ChamberMaster//Event Calendar 2.0//EN
METHOD:PUBLISH
X-PUBLISHED-TTL:P3D
REFRESH-INTERVAL:P3D
CALSCALE:GREGORIAN
BEGIN:VEVENT
DTSTART;VALUE=DATE:20160216
DTEND;VALUE=DATE:20160217
TRANSP:TRANSPARENT
X-MICROSOFT-CDO-ALLDAYEVENT:TRUE
SUMMARY:WineSong
DESCRIPTION:WineSong â€“ Charity Auction benefiting the Mendocino Coast District Hospital\, sponsored by the Mendocino Coast Hospital FoundationA Pinot Noir Celebration: Meet the Winemakers Friday\, September 9\, 2016 | 1 to 4 p.m.Presented by Winesong and hosted by Little River Inn\, this illustrious event features Pinot Noir from renowned Anderson Valley and other award winning pinot regions\, plus tastes of Little River Innâ€™s finest culinary offerings.Wine & Food Grand Tasting in the Gardens  Saturday\, September 10\, 2016 | 11 a.m. to 2 p.m.Stroll through the lush Mendocino Coast Botanical Gardens while enjoying vintages poured by world-class wineries from Mendocino\, Sonoma\, Napa\, and beyond as well as beer\, spirits\, and food from 50 of Mendocino Countyâ€™s finest food purveyors. The tasting is accented by various musical groups performing a variety of styles including jazz\, classical\, blues\, calypso and folk rock.Silent & Live Auctions Saturday\, September 10\, 2016 | SILENT: 11 a.m. to 4 p.m.\; LIVE: 2 p.m. to 5 p.m. The centerpiece of Winesong weekend is the Charity Auction\, featuring both a silent and live auction. More than 200 lots will be offered\, featuring spectacular wines from the worldâ€™s most prestigious wine producers\, rare vintages\, large format bottles and special vertical and horizontal collections\, as well as original art from acclaimed California artists and highly coveted international and domestic vacation packages.Additional weekend events will be posted on-line in March.Tickets go on sale April 1st:Friday â€“ Pinot Noir Celebration: $75Saturdayâ€™s events\;\n General Admission before 6/1: $125\; after -$150Auction Reserve before 6/1: $225\; after - $250For more information\, visit:Â  www.winesong.org or call (707) 961-4688 or email winesong@winesong.org
X-ALT-DESC;FMTTYPE=text/html:<p><strong>WineSong</strong> â€“ Charity Auction benefiting the Mendocino Coast District Hospital\, sponsored by the Mendocino Coast Hospital Foundation</p><p><strong>A Pinot Noir Celebration: Meet the Winemakers </strong></p><p><em>Friday\, September 9\, 2016 | 1 to 4 p.m.</em></p><p>Presented by Winesong and hosted by Little River Inn\, this illustrious event features Pinot Noir from renowned Anderson Valley and other award winning pinot regions\, plus tastes of Little River Innâ€™s finest culinary offerings.</p><p><strong>Wine &amp\; Food Grand Tasting in the Gardens </strong><strong> </strong></p><p><em>Saturday\, September 10\, 2016 | 11 a.m. to 2 p.m.</em></p><p>Stroll through the lush Mendocino Coast Botanical Gardens while enjoying vintages poured by world-class wineries from Mendocino\, Sonoma\, Napa\, and beyond as well as beer\, spirits\, and food from 50 of Mendocino Countyâ€™s finest food purveyors. The tasting is accented by various musical groups performing a variety of styles including jazz\, classical\, blues\, calypso and folk rock.</p><p><strong>Silent &amp\; Live Auctions </strong></p><p><em>Saturday\, September 10\, 2016 | SILENT: 11 a.m. to 4 p.m.\; LIVE: 2 p.m. to 5 p.m. </em></p><p>The centerpiece of Winesong weekend is the Charity Auction\, featuring both a silent and live auction. More than 200 lots will be offered\, featuring spectacular wines from the worldâ€™s most prestigious wine producers\, rare vintages\, large format bottles and special vertical and horizontal collections\, as well as original art from acclaimed California artists and highly coveted international and domestic vacation packages.</p><p>Additional weekend events will be posted on-line in March.</p><p><strong>Tickets go on sale April 1<sup>st</sup>:</strong><strong></strong></p><p>Friday â€“ Pinot Noir Celebration: $75</p><p>Saturdayâ€™s events\;<br /> General Admission before 6/1: $125\; after -$150</p><p>Auction Reserve before 6/1: $225\; after - $250</p><p>For more information\, visit:Â  <a href="http://www.winesong.org/">www.winesong.org</a> or call (707) 961-4688 or email <a href="mailto:winesong@winesong.org">winesong@winesong.org</a></p>
LOCATION:Mendocino Coast Botanical Gardens Ft. Bragg
UID:e.2883.856
SEQUENCE:3
DTSTAMP:20260421T191804Z
URL:https://mendocinocoast.com/events/details/winesong-02-16-2016-856
END:VEVENT

END:VCALENDAR
