BEGIN:VCALENDAR
VERSION:2.0
PRODID:-//ChamberMaster//Event Calendar 2.0//EN
METHOD:PUBLISH
X-PUBLISHED-TTL:P3D
REFRESH-INTERVAL:P3D
CALSCALE:GREGORIAN
BEGIN:VEVENT
DTSTART:20140124T050000Z
DTEND:20140124T100000Z
X-MICROSOFT-CDO-ALLDAYEVENT:FALSE
SUMMARY:Winemaker Dinner: Scharffenberger Cellars at 955 Ukiah Restaurant
DESCRIPTION:Five course crab dish pairing 955 Chef/Owner Jamie will prepare a delicious crab-inspired dinner paired with Scharffenberger sparkling wines. $95 per person. Reservations recommend
X-ALT-DESC;FMTTYPE=text/html:<p>Five course crab dish pairing 955 Chef/Owner Jamie will prepare a delicious crab-inspired dinner paired with Scharffenberger sparkling wines. $95 per person. Reservations recommend</p>
LOCATION:955 Ukiah Street\, Mendocino
UID:e.2883.86
SEQUENCE:3
DTSTAMP:20260423T145733Z
URL:https://mendocinocoast.com/events/details/winemaker-dinner-scharffenberger-cellars-at-955-ukiah-restaurant-01-23-2014-86
END:VEVENT

END:VCALENDAR
