BEGIN:VCALENDAR
VERSION:2.0
PRODID:-//ChamberMaster//Event Calendar 2.0//EN
METHOD:PUBLISH
X-PUBLISHED-TTL:P3D
REFRESH-INTERVAL:P3D
CALSCALE:GREGORIAN
BEGIN:VEVENT
DTSTART;VALUE=DATE:20150701
DTEND;VALUE=DATE:20150702
TRANSP:TRANSPARENT
X-MICROSOFT-CDO-ALLDAYEVENT:TRUE
SUMMARY:Will Durst's BoomeRaging
DESCRIPTION:Coming to a Theatre near you - well\, in the theater seating at Hill House Inn\, anyway. Premier political satirist Will Durst returns to the Mendocino Coast for his one-man show "BoomerRaging" on Saturday\, September 19 for one night only. You may have seen his performance and appearance on screen at the Mendocino Film Festival with "3 Still Standing". If you did\, you will want more. If not\, here's your chance.You can read up on the show and watch a couple of short videos http://willdurst.com/themarsh/index.html\n\nBoomeRaging is Will Durstâ€™s acclaimed tribute to the history\, growth\, joys\, achievements\, frustrations\, fashions and looming doom of the Baby Boom Generation. Ably assisted by his trusty overhead projector\, Durst explores the Boomersâ€™ revolutions\, evolutions and still vibrant role in todayâ€™s youth-obsessed society\, which they invented\, for crumâ€™s sake. Itâ€™s a celebration of the maturation of the Boomer Nation and as an extra\, added\, special treat- the Meaning of Life.\n\nAcknowledged by peers and press alike as one of the premier political satirists in the country\, Will Durst has patched together a comedy quilt of a career\, weaving together columns\, books\, radio and television commentaries\, acting\, voice overs and most especially\, stand up comedy\, into a hilarious patchwork of outraged and outrageous common sense. His abiding motto is â€œYou canâ€™t make stuff up like this." The New York Times calls him "possibly the best political comic in the country."\n\nTickets available at http://www.brownpapertickets.com/event/1827375 and by calling 707-937-1732. Doors open at 6PM for casual dining and full bar.
X-ALT-DESC;FMTTYPE=text/html:<p><span style="font-size:small\;">Coming to a Theatre near you - well\, in the theater seating at Hill House Inn\, anyway. Premier political satirist Will Durst returns to the Mendocino Coast for his one-man show "BoomerRaging" on Saturday\, September 19 for one night only. You may have seen his performance and appearance on screen at the Mendocino Film Festival with "3 Still Standing". If you did\, you will want more. If not\, here's your chance.You can read up on the show and watch a couple of short videos http://willdurst.com/themarsh/index.html</span><br /><br /><span style="font-size:small\;">BoomeRaging is Will Durstâ€™s acclaimed tribute to the history\, growth\, joys\, achievements\, frustrations\, fashions and looming doom of the Baby Boom Generation. Ably assisted by his trusty overhead projector\, Durst explores the Boomersâ€™ revolutions\, evolutions and still vibrant role in todayâ€™s youth-obsessed society\, which they invented\, for crumâ€™s sake. Itâ€™s a celebration of the maturation of the Boomer Nation and as an extra\, added\, special treat- the Meaning of Life.</span><br /><br /><span style="font-size:small\;">Acknowledged by peers and press alike as one of the premier political satirists in the country\, Will Durst has patched together a comedy quilt of a career\, weaving together columns\, books\, radio and television commentaries\, acting\, voice overs and most especially\, stand up comedy\, into a hilarious patchwork of outraged and outrageous common sense. His abiding motto is â€œYou canâ€™t make stuff up like this." The New York Times calls him "possibly the best political comic in the country."</span><br /><br /><span style="font-size:small\;">Tickets available at http://www.brownpapertickets.com/event/1827375 and by calling 707-937-1732. Doors open at 6PM for casual dining and full bar.</span></p>
LOCATION:Hill House of Mendocino
UID:e.2883.673
SEQUENCE:3
DTSTAMP:20260422T064218Z
URL:https://mendocinocoast.com/events/details/will-durst-s-boomeraging-07-01-2015-673
END:VEVENT

END:VCALENDAR
