BEGIN:VCALENDAR
VERSION:2.0
PRODID:-//ChamberMaster//Event Calendar 2.0//EN
METHOD:PUBLISH
X-PUBLISHED-TTL:P3D
REFRESH-INTERVAL:P3D
CALSCALE:GREGORIAN
BEGIN:VEVENT
DTSTART:20150127T170000Z
DTEND:20150128T020000Z
X-MICROSOFT-CDO-ALLDAYEVENT:FALSE
SUMMARY:Wilderness First Aid Course Fort Bragg
DESCRIPTION:Liquid Fusion Kayaking is hosting a 2-day Wilderness First Aid Course February 7-8\, 2015. This is an OSHA approved course and covers most company's requirements for outdoor recreation guides and instructors. For more information and registration\, go toÂ https://sierrarescue.com/schedule/categories/wilderness-first-aid-courses/wilderness-first-aid-2-day-course/.The course will take place at Liquid Fusion Kayaking\, 32399 Basin Street\, Fort Bragg.
X-ALT-DESC;FMTTYPE=text/html:<p>Liquid Fusion Kayaking is hosting a 2-day Wilderness First Aid Course February 7-8\, 2015. This is an OSHA approved course and covers most company's requirements for outdoor recreation guides and instructors. For more information and registration\, go toÂ <a title="WFA-2D" href="https://sierrarescue.com/schedule/categories/wilderness-first-aid-courses/wilderness-first-aid-2-day-course/" target="_blank">https://sierrarescue.com/schedule/categories/wilderness-first-aid-courses/wilderness-first-aid-2-day-course/</a>.</p><p>The course will take place at Liquid Fusion Kayaking\, 32399 Basin Street\, Fort Bragg.</p>
LOCATION:Liquid Fusion Kayaking Fort Bragg\, CA
UID:e.2883.455
SEQUENCE:3
DTSTAMP:20260422T180719Z
URL:https://mendocinocoast.com/events/details/wilderness-first-aid-course-fort-bragg-01-27-2015-455
END:VEVENT

END:VCALENDAR
