BEGIN:VCALENDAR
VERSION:2.0
PRODID:-//ChamberMaster//Event Calendar 2.0//EN
METHOD:PUBLISH
X-PUBLISHED-TTL:P3D
REFRESH-INTERVAL:P3D
CALSCALE:GREGORIAN
BEGIN:VEVENT
DTSTART:20140222T200100Z
DTEND:20140223T020100Z
X-MICROSOFT-CDO-ALLDAYEVENT:FALSE
SUMMARY:Whitewater River Kayaking I
DESCRIPTION:Whitewater kayaking is fun and exciting way to experience river valleys.Â  Learn the basics of whitewater kayaking to safely enjoy and paddle whitewater rivers.Â Why: Learn the essential kayaking skills to safely paddle whitewater rivers. This course is a prerequisite for all of our whitewater kayaking classes and trips.Who: Anyone wanting to kayak whitewater rivers.Â  No previous kayaking experience necessary.What: A 2 day class with on land and on water instruction and application. Â The curriculum for this class is based on the American Canoe Association's Level 2: Essentials of River Kayaking Paddlers will learn and apply concepts and skills involved in:Gear fit\, form\, and functionBasic StrokesBalance and BracingSelf-Rescue SkillsRollingRiver Hydrology and water readingSwiftwater safetyEddy TurnsFerrying   Understanding personal limitations and skill levelWhen: Noyo River April 2-3\, 2014If these dates don't work\, rally your friends and schedule a class or private session.How: Call to reserve your spot or schedule a class or private session.  (707) 962-1623How much:  \n$199/person for 2 day class (3-6 paddlers)$250/person for 2 day class (2 paddlers) Where: Noyo River or other rivers on the Coast Range of Northern California.
X-ALT-DESC;FMTTYPE=text/html:<p class="rteleft">Whitewater kayaking is fun and exciting way to experience river valleys.Â  Learn the basics of whitewater kayaking to safely enjoy and paddle whitewater rivers.</p><p class="rtecenter">Â </p><p class="rteleft"><strong><span style="text-decoration:underline\;">Why:</span></strong><span> </span>Learn the essential kayaking skills to safely paddle whitewater rivers.</p><p class="MsoNormal"><span> </span><strong>This course is a prerequisite for</strong> all of our whitewater kayaking classes and trips.</p><p class="MsoNormal"><strong><span style="text-decoration:underline\;">Who:</span></strong><span> </span>Anyone wanting to kayak whitewater rivers.Â  No previous kayaking experience necessary.</p><p class="MsoNormal"><strong><span style="text-decoration:underline\;">What:</span></strong><span> </span>A 2 day class with on land and on water instruction and application. Â The curriculum for this class is based on the <a href="http://www.americancanoe.org/?page=Courses_Kayaking" target="_blank">American Canoe Association's Level 2: Essentials of River Kayaking</a></p><p class="MsoNormal"><span> </span>Paddlers will learn and apply concepts and skills involved in:</p><p>Gear fit\, form\, and function</p><p>Basic Strokes</p><p>Balance and Bracing</p><p>Self-Rescue Skills</p><p>Rolling</p><p>River Hydrology and water reading</p><p>Swiftwater safety</p><p>Eddy Turns</p><p>Ferrying</p><p><span> </span><span> </span> Understanding personal limitations and skill level</p><p class="MsoNormal"><strong><span style="text-decoration:underline\;">When:</span></strong><span> </span></p><p class="MsoNormal">Noyo River April 2-3\, 2014</p><p class="MsoNormal">If these dates don't work\, rally your friends and schedule a class or private session.</p><p class="MsoNormal"><strong><span style="text-decoration:underline\;">How:</span></strong><span> </span>Call to reserve your spot or schedule a class or private session.  (707) 962-1623</p><p class="MsoNormal"><strong><span style="text-decoration:underline\;">How much:</span></strong><span> </span><span> </span><strong><br /></strong></p><p class="MsoNormal">$199/person for 2 day class (3-6 paddlers)</p><p class="MsoNormal">$250/person for 2 day class (2 paddlers)</p><p class="MsoNormal"><strong><span style="text-decoration:underline\;"><span style="text-decoration:none\;"> </span></span></strong></p><p class="MsoNormal"><strong><span style="text-decoration:underline\;">Where:</span></strong><span> </span>Noyo River or other rivers on the Coast Range of Northern California.</p>
LOCATION:Noyo River Fort Bragg
UID:e.2883.142
SEQUENCE:3
DTSTAMP:20260423T131407Z
URL:https://mendocinocoast.com/events/details/whitewater-river-kayaking-i-02-22-2014-142
END:VEVENT

END:VCALENDAR
