BEGIN:VCALENDAR
VERSION:2.0
PRODID:-//ChamberMaster//Event Calendar 2.0//EN
METHOD:PUBLISH
X-PUBLISHED-TTL:P3D
REFRESH-INTERVAL:P3D
CALSCALE:GREGORIAN
BEGIN:VEVENT
DTSTART:20150123T222300Z
DTEND:20150123T212300Z
X-MICROSOFT-CDO-ALLDAYEVENT:FALSE
SUMMARY:Whale Watching & Festivities!
DESCRIPTION:Come Stay & Play 3days for $99 for 2people! Â FREE Wi-Fi & Cable w/HotShowers\, and full or partial amenities. Â Hear\, feel\, and breathe in the Ocean\, walk to the beach\, shopping and Botanical Gardens. Close to everything =)
X-ALT-DESC;FMTTYPE=text/html:<p><span style="font-family:&quot\;comic sans ms&quot\;\, sans-serif\;font-size:small\;color:#0000ff\;">Come Stay &amp\; Play 3days for $99 for 2people! Â FREE Wi-Fi &amp\; Cable w/HotShowers\, and full or partial amenities. Â Hear\, feel\, and breathe in the Ocean\, walk to the beach\, shopping and Botanical Gardens. Close to everything =) </span></p>
LOCATION:Hidden Pines RV Resort & Campground Fort Bragg
UID:e.2883.449
SEQUENCE:3
DTSTAMP:20260422T163301Z
URL:https://mendocinocoast.com/events/details/whale-watching-festivities-01-23-2015-449
END:VEVENT

END:VCALENDAR
