BEGIN:VCALENDAR
VERSION:2.0
PRODID:-//ChamberMaster//Event Calendar 2.0//EN
METHOD:PUBLISH
X-PUBLISHED-TTL:P3D
REFRESH-INTERVAL:P3D
CALSCALE:GREGORIAN
BEGIN:VEVENT
DTSTART:20140308T110000Z
DTEND:20140308T090000Z
X-MICROSOFT-CDO-ALLDAYEVENT:FALSE
SUMMARY:Whale Festival in Little River
DESCRIPTION:food & wine tasting\, whale watching walks\, sea cave kayak tours
X-ALT-DESC;FMTTYPE=text/html:<p>food &amp\; wine tasting\, whale watching walks\, sea cave kayak tours</p>
LOCATION:Little River Mendocino
UID:e.2883.85
SEQUENCE:3
DTSTAMP:20260423T113827Z
URL:https://mendocinocoast.com/events/details/whale-festival-in-little-river-03-08-2014-85
END:VEVENT

END:VCALENDAR
