BEGIN:VCALENDAR
VERSION:2.0
PRODID:-//ChamberMaster//Event Calendar 2.0//EN
METHOD:PUBLISH
X-PUBLISHED-TTL:P3D
REFRESH-INTERVAL:P3D
CALSCALE:GREGORIAN
BEGIN:VEVENT
DTSTART:20150202T040000Z
DTEND:20150202T070000Z
X-MICROSOFT-CDO-ALLDAYEVENT:FALSE
SUMMARY:Valentine's Jazz at Flow
DESCRIPTION:Zida and Ira will perform jazz standards on Valentine's Day\, February 14th.
X-ALT-DESC;FMTTYPE=text/html:<p>Zida and Ira will perform jazz standards on Valentine's Day\, February 14th.</p>
LOCATION:Flow Restaurant Mendocino
UID:e.2883.487
SEQUENCE:3
DTSTAMP:20260422T150343Z
URL:https://mendocinocoast.com/events/details/valentine-s-jazz-at-flow-02-01-2015-487
END:VEVENT

END:VCALENDAR
