BEGIN:VCALENDAR
VERSION:2.0
PRODID:-//ChamberMaster//Event Calendar 2.0//EN
METHOD:PUBLISH
X-PUBLISHED-TTL:P3D
REFRESH-INTERVAL:P3D
CALSCALE:GREGORIAN
BEGIN:VEVENT
DTSTART;VALUE=DATE:20150212
DTEND;VALUE=DATE:20150213
TRANSP:TRANSPARENT
X-MICROSOFT-CDO-ALLDAYEVENT:TRUE
SUMMARY:Valentine's Day Lovesongs for Dancing with Steven Bates
DESCRIPTION:Yes\, it's that most passionate time of the year\, St. Valentine's Day! Time to make the fairy tale a reality for your significant other. Show them romance is alive and well in your poetic heart. Step out with that special someone and trip the light fantastic to the music of The Steven Bates Trio. Dance\, Listen and Groove to live music in the most enchanting setting in Mendocino County. Â It will leave them starry eyed. Tickets $20 available at The Heritage House\, Little River - Out of This World\, Mendocino - online at BrownPaperTickets.com. Â Only $10 with dinner\, available when dining. Â Music starts 9 PM\, Doors open 8 PM.
X-ALT-DESC;FMTTYPE=text/html:<p>Yes\, it's that most passionate time of the year\, St. Valentine's Day! Time to make the fairy tale a reality for your significant other. Show them romance is alive and well in your poetic heart. Step out with that special someone and trip the light fantastic to the music of The Steven Bates Trio. Dance\, Listen and Groove to live music in the most enchanting setting in Mendocino County. Â It will leave them starry eyed.<span> </span>Tickets $20 available at The Heritage House\, Little River - Out of This World\, Mendocino - online at BrownPaperTickets.com. Â Only $10 with dinner\, available when dining. Â Music starts 9 PM\, Doors open 8 PM.</p>
LOCATION:Heritage House Resort Little River
UID:e.2883.513
SEQUENCE:3
DTSTAMP:20260422T151437Z
URL:https://mendocinocoast.com/events/details/valentine-s-day-lovesongs-for-dancing-with-steven-bates-02-12-2015-513
END:VEVENT

END:VCALENDAR
