BEGIN:VCALENDAR
VERSION:2.0
PRODID:-//ChamberMaster//Event Calendar 2.0//EN
METHOD:PUBLISH
X-PUBLISHED-TTL:P3D
REFRESH-INTERVAL:P3D
CALSCALE:GREGORIAN
BEGIN:VEVENT
DTSTART:20150205T200000Z
DTEND:20150206T030000Z
X-MICROSOFT-CDO-ALLDAYEVENT:FALSE
SUMMARY:Valentine's Day at Love-In-It Cooperative
DESCRIPTION:4-year anniversary of Love In it Cooperative at 10164 Lansing Street (across from Fire House upstairs)\, 11 am - 6 pm.Celebrate with us! Music\, sweets and more! Free samples for members.
X-ALT-DESC;FMTTYPE=text/html:<p>4-year anniversary of Love In it Cooperative at 10164 Lansing Street (across from Fire House upstairs)\, 11 am - 6 pm.</p><p>Celebrate with us! Music\, sweets and more! Free samples for members.</p>
LOCATION:Love In It Fort Bragg CA
UID:e.2883.502
SEQUENCE:3
DTSTAMP:20260422T164017Z
URL:https://mendocinocoast.com/events/details/valentine-s-day-at-love-in-it-cooperative-02-05-2015-502
END:VEVENT

END:VCALENDAR
