BEGIN:VCALENDAR
VERSION:2.0
PRODID:-//ChamberMaster//Event Calendar 2.0//EN
METHOD:PUBLISH
X-PUBLISHED-TTL:P3D
REFRESH-INTERVAL:P3D
CALSCALE:GREGORIAN
BEGIN:VEVENT
DTSTART:20140126T220000Z
DTEND:20140127T030000Z
X-MICROSOFT-CDO-ALLDAYEVENT:FALSE
SUMMARY:Ukiah Wedding Faire
DESCRIPTION:Northern Californias Most Spectacular Wedding Event!
X-ALT-DESC;FMTTYPE=text/html:<p>Northern Californias Most Spectacular Wedding Event!</p>
LOCATION:Redwood Empire Fairgrounds\, Ukiah\, CA Mendocino
UID:e.2883.84
SEQUENCE:3
DTSTAMP:20260423T145727Z
URL:https://mendocinocoast.com/events/details/ukiah-wedding-faire-01-26-2014-84
END:VEVENT

END:VCALENDAR
