BEGIN:VCALENDAR
VERSION:2.0
PRODID:-//ChamberMaster//Event Calendar 2.0//EN
METHOD:PUBLISH
X-PUBLISHED-TTL:P3D
REFRESH-INTERVAL:P3D
CALSCALE:GREGORIAN
BEGIN:VEVENT
DTSTART:20150115T000000Z
DTEND:20150115T020000Z
X-MICROSOFT-CDO-ALLDAYEVENT:FALSE
SUMMARY:Trio Celeste Concert at Preston Hall
DESCRIPTION:Trio CÃ©leste Concert Trio CÃ©leste\, a premiere chamber music ensemble\, plays works by Beethoven and Dvorak (Di-vor-Jok) at Preston Hall. Advance tickets at Out of This World\, Fiddles and Cameras and Harvest Market\, Fort Bragg. $20 advance/ $25 at the door. 3 - 5 p.m. Preston Hall\, 44831 Main St.\, Mendocino. 707.937.1018 www.fbcamusicseries.com
X-ALT-DESC;FMTTYPE=text/html:<p><strong>Trio CÃ©leste Concert </strong>Trio CÃ©leste\, a premiere chamber music ensemble\, plays works by Beethoven and Dvorak (Di-vor-Jok) at Preston Hall. Advance tickets at Out of This World\, Fiddles and Cameras and Harvest Market\, Fort Bragg. $20 advance/ $25 at the door. 3 - 5 p.m. Preston Hall\, 44831 Main St.\, Mendocino. 707.937.1018 www.fbcamusicseries.com</p>
LOCATION:Preston Hall Mendocino CA
UID:e.2883.437
SEQUENCE:3
DTSTAMP:20260422T181920Z
URL:https://mendocinocoast.com/events/details/trio-celeste-concert-at-preston-hall-01-14-2015-437
END:VEVENT

END:VCALENDAR
