BEGIN:VCALENDAR
VERSION:2.0
PRODID:-//ChamberMaster//Event Calendar 2.0//EN
METHOD:PUBLISH
X-PUBLISHED-TTL:P3D
REFRESH-INTERVAL:P3D
CALSCALE:GREGORIAN
BEGIN:VEVENT
DTSTART:20140422T030000Z
DTEND:20140422T050000Z
X-MICROSOFT-CDO-ALLDAYEVENT:FALSE
SUMMARY:Tribute to Aretha Franklin at Mendocino Music Festivall
DESCRIPTION:Festival Big Band with Kim Nalley: Homage to Aretha FranklinSaturday\, July 19\, 2014\, 8:00 PMTent Concert HallThe annual Big Band concert will feature vocalist Kim Nalley\, with her amazing 3 Â½ octave range and striking stage presence\, singing songs made famous by Aretha Franklin\, accompanied by the all-star Big Band\, directed by conductor and saxophonist Allan Pollack.The Mendocino Music Festival runs July 12 - 26. For more information: www.MendocinoMusic.org  707 937-2044
X-ALT-DESC;FMTTYPE=text/html:Festival Big Band with Kim Nalley: Homage to Aretha FranklinSaturday\, July 19\, 2014\, 8:00 PMTent Concert HallThe annual Big Band concert will feature vocalist Kim Nalley\, with her amazing 3 Â½ octave range and striking stage presence\, singing songs made famous by Aretha Franklin\, accompanied by the all-star Big Band\, directed by conductor and saxophonist Allan Pollack.The Mendocino Music Festival runs July 12 - 26. For more information: www.MendocinoMusic.org  707 937-2044
LOCATION:16\,000 square foot Tent Performance Hall on the Mendocino Headlands State Park
UID:e.2883.238
SEQUENCE:3
DTSTAMP:20260423T100511Z
URL:https://mendocinocoast.com/events/details/tribute-to-aretha-franklin-at-mendocino-music-festivall-04-21-2014-238
END:VEVENT

END:VCALENDAR
