BEGIN:VCALENDAR
VERSION:2.0
PRODID:-//ChamberMaster//Event Calendar 2.0//EN
METHOD:PUBLISH
X-PUBLISHED-TTL:P3D
REFRESH-INTERVAL:P3D
CALSCALE:GREGORIAN
BEGIN:VEVENT
DTSTART;VALUE=DATE:20141211
DTEND;VALUE=DATE:20141212
TRANSP:TRANSPARENT
X-MICROSOFT-CDO-ALLDAYEVENT:TRUE
SUMMARY:Tree Lighting in Rotary Park
DESCRIPTION:Tree Lighting planned for Second Saturday in Mendocino. There is one more reason to visit Mendocino Village - in addition to gallery openings and shopping -- during Second Saturday this month:Mendocino Rotary will sponsor a holiday tree lighting in Rotary Park\, Lansing and Main streets\, at 5 pm Saturday\, Dec. 13. It's free to locals and visitors. "We especially want to invite children and parents to the lighting\," explained John Innes\, tree lighting event coordinator for the local Rotary Club.The 12-foot tree will be lit each night at dark until Christmas Eve.
X-ALT-DESC;FMTTYPE=text/html:<p>Tree Lighting planned for Second Saturday in Mendocino. There is one more reason to visit Mendocino Village - in addition to gallery openings and shopping -- during Second Saturday this month:</p><p>Mendocino Rotary will sponsor a holiday <strong>tree lighting in Rotary Park\, Lansing and Main streets\, at 5 pm Saturday\, Dec. 13.</strong> It's free to locals and visitors. "We especially want to invite children and parents to the lighting\," explained John Innes\, tree lighting event coordinator for the local Rotary Club.</p><p>The 12-foot tree will be lit each night at dark until Christmas Eve.</p>
LOCATION:Rotary Park\, Lansing and Main streets Mendocino CA
UID:e.2883.394
SEQUENCE:3
DTSTAMP:20260422T181726Z
URL:https://mendocinocoast.com/events/details/tree-lighting-in-rotary-park-12-11-2014-394
END:VEVENT

END:VCALENDAR
