BEGIN:VCALENDAR
VERSION:2.0
PRODID:-//ChamberMaster//Event Calendar 2.0//EN
METHOD:PUBLISH
X-PUBLISHED-TTL:P3D
REFRESH-INTERVAL:P3D
CALSCALE:GREGORIAN
BEGIN:VEVENT
DTSTART:20140116T063000Z
DTEND:20140116T090000Z
X-MICROSOFT-CDO-ALLDAYEVENT:FALSE
SUMMARY:Tracy Grammer in Concert
DESCRIPTION:The Mendocino Stories and Music Series proudly presents American folk singer Tracy Grammer on Thursday\, January 16\, 2014 in a benefit for the Albion Little River Fire Department. The concert will begin at 7:30PM at Little River Inn
X-ALT-DESC;FMTTYPE=text/html:<p>The Mendocino Stories and Music Series proudly presents American folk singer Tracy Grammer on Thursday\, January 16\, 2014 in a benefit for the Albion Little River Fire Department. The concert will begin at 7:30PM at Little River Inn</p>
LOCATION:Little River Inn\, Abalone Room Mendocino
UID:e.2883.83
SEQUENCE:3
DTSTAMP:20260423T145037Z
URL:https://mendocinocoast.com/events/details/tracy-grammer-in-concert-01-15-2014-83
END:VEVENT

END:VCALENDAR
