BEGIN:VCALENDAR
VERSION:2.0
PRODID:-//ChamberMaster//Event Calendar 2.0//EN
METHOD:PUBLISH
X-PUBLISHED-TTL:P3D
REFRESH-INTERVAL:P3D
CALSCALE:GREGORIAN
BEGIN:VEVENT
DTSTART:20140222T180200Z
DTEND:20140223T000300Z
X-MICROSOFT-CDO-ALLDAYEVENT:FALSE
SUMMARY:Tracks to Kayaks
DESCRIPTION:A Wilderness Adventure - Mendocino County Style!Â Tracks to KayaksA unique way to explore the redwoods of the Noyo River Valley.Â  Ride the Skunk Train from Fort Bragg to Northspur.Â  On the return from Northspur\, disembark from the train to kayak 2.5 miles on the Noyo River Estuary back to Fort Bragg.The DETAILS:The Skunk Train departs at 10am from the Depot in Fort Bragg.Â  Participants enjoy a scenic trip into the redwoods with a lunch and turn around stop at Northspur.Â  Participants can purchase lunch at Northspur.On the return trip\, the train stops before its last crossing of the Noyo River.Â  Tracks to Kayaks participants are greeted there by their kayak guide (Cate or Jeff).Â  A quick paddle lesson is then followed by a 2.5 mile leisurely paddle down the Noyo River to Dolphin Isle.Â  While paddling\, learn about the wildlife and ecology of the Noyo River watershed.Â  The 2.5 miles takes approximately 1.5 hours and is then followed by a shuttle ride back to the train depot.This is a dry and mild kayak tour in tandem kayaks.Â  No experience is necessary.  Children must be 8 years of age to participate. Â Individuals with special needs should contact Liquid Fusion Kayaking about accommodations before purchasing tickets.Participants must make reservations by 2pm the day prior to the trip. Â Space is limited so early registration is recommended. Â Tickets areÂ $119/person and $94/child (ages 8-12).Click here to purchase tickets.Dates for the Summer of 2014\nMay 14\, 16\, 28\, 29\, 30\nJune 12\, 13\, 14\, 26\, 27\nJuly 11\, 14\, 26\, 28\, 29\,Â \nAugust 11\, 12\, 25\, 26\, 27\nSeptember 9\, 11\, 24\, 25For reservations click here.For questions about kayaking\, contact Liquid Fusion Kayaking.Â  Click here to send a message or call (707) 962-1623.
X-ALT-DESC;FMTTYPE=text/html:<h1>A Wilderness Adventure - Mendocino County Style!</h1><p class="rtecenter">Â </p><h1><strong>Tracks to Kayaks</strong></h1><p>A unique way to explore the redwoods of the Noyo River Valley.Â  Ride the <a href="http://www.skunktrain.com/specials-posters/skunk-kayak.html" target="_blank">Skunk Train</a> from Fort Bragg to Northspur.Â  On the return from Northspur\, disembark from the train to kayak 2.5 miles on the Noyo River Estuary back to Fort Bragg.</p><p><strong>The DETAILS:</strong></p><p>The Skunk Train departs at 10am from the Depot in Fort Bragg.Â  Participants enjoy a scenic trip into the redwoods with a lunch and turn around stop at Northspur.Â  Participants can purchase lunch at Northspur.</p><p>On the return trip\, the train stops before its last crossing of the Noyo River.Â  Tracks to Kayaks participants are greeted there by their kayak guide (Cate or Jeff).Â  A quick paddle lesson is then followed by a 2.5 mile leisurely paddle down the Noyo River to Dolphin Isle.Â  While paddling\, learn about the wildlife and ecology of the Noyo River watershed.Â  The 2.5 miles takes approximately 1.5 hours and is then followed by a shuttle ride back to the train depot.</p><p>This is a dry and mild kayak tour in tandem kayaks.Â <strong> No experience is necessary. </strong> Children must be 8 years of age to participate. Â Individuals with special needs should contact Liquid Fusion Kayaking about accommodations before purchasing tickets.</p><p>Participants must make reservations by 2pm the day prior to the trip. Â Space is limited so early registration is recommended. Â Tickets areÂ $119/person and $94/child (ages 8-12).</p><h1>Click<a href="http://www.skunktrain.com/tracks-kayaks.html" target="_blank"> here</a> to purchase tickets.</h1><p><strong>Dates for the Summer of 2014<br /></strong></p><p><strong>May 14\, 16\, 28\, 29\, 30<br /></strong></p><p><strong>June 12\, 13\, 14\, 26\, 27<br /></strong></p><p><strong>July 11\, 14\, 26\, 28\, 29\,Â <br /></strong></p><p><strong>August 11\, 12\, 25\, 26\, 27<br /></strong></p><p><strong>S</strong><strong>eptember 9\, 11\, 24\, 25</strong></p><h4><strong>For reservations <a href="http://www.skunktrain.com/tracks-kayaks.html" target="_blank">click here</a><a href="http://www.skunktrain.com/tracks-kayaks.html">.</a></strong></h4><p>For questions about kayaking\, contact Liquid Fusion Kayaking.Â  Click <a href="http://www.liquidfusionkayak.com/contact">here</a> to send a message or call (707) 962-1623.</p>
LOCATION:Noyo River Fort Bragg
UID:e.2883.149
SEQUENCE:3
DTSTAMP:20260423T131500Z
URL:https://mendocinocoast.com/events/details/tracks-to-kayaks-02-22-2014-149
END:VEVENT

END:VCALENDAR
