BEGIN:VCALENDAR
VERSION:2.0
PRODID:-//ChamberMaster//Event Calendar 2.0//EN
METHOD:PUBLISH
X-PUBLISHED-TTL:P3D
REFRESH-INTERVAL:P3D
CALSCALE:GREGORIAN
BEGIN:VEVENT
DTSTART:20140219T190000Z
DTEND:20140220T020000Z
X-MICROSOFT-CDO-ALLDAYEVENT:FALSE
SUMMARY:The Worlds Largest Salmon BBQ
DESCRIPTION:The Worlds Largest Salmon BBQ will be held on Saturday July 5th 2014. THe event will be from 11:00am-6:00pm at Â South Noyo Harbor. Â The event is free\, there is are cash bars and live music. The Meal costs $30 at the gate and $23 Â in advance\, available at Harvest Market from early June. This wonderful event is a fund raiser for the salmon Restoration Association http://www.salmonrestoration.org  This is a great way to celebrate Â the 4th of July weekend!
X-ALT-DESC;FMTTYPE=text/html:<p>The <strong>Worlds Largest Salmon BBQ</strong> will be held on <strong>Saturday July 5th 2014</strong>. THe event will be from <strong>11:00am-6:00pm</strong> at Â South Noyo Harbor. Â The event is free\, there is are cash bars and live music. The Meal costs $30 at the gate and $23 Â in advance\, available at Harvest Market from early June. This wonderful event is a fund raiser for the salmon Restoration Association http://<a href="http://www.salmonrestoration.org">www.salmonrestoration.org </a> This is a great way to celebrate Â the 4th of July weekend!</p>
LOCATION:South Noyo Harbor Fort Bragg
UID:e.2883.137
SEQUENCE:3
DTSTAMP:20260423T131714Z
URL:https://mendocinocoast.com/events/details/the-worlds-largest-salmon-bbq-02-19-2014-137
END:VEVENT

END:VCALENDAR
