BEGIN:VCALENDAR
VERSION:2.0
PRODID:-//ChamberMaster//Event Calendar 2.0//EN
METHOD:PUBLISH
X-PUBLISHED-TTL:P3D
REFRESH-INTERVAL:P3D
CALSCALE:GREGORIAN
BEGIN:VEVENT
DTSTART:20141211T190000Z
DTEND:20141212T020000Z
X-MICROSOFT-CDO-ALLDAYEVENT:FALSE
SUMMARY:The World's Largest Salmon Barbecue
DESCRIPTION:It's time for our annual The World's Largest Salmon Barbecue!All proceeds are used to improve salmon populations on the Northern California coast\, see projects.\n\nBBQ Tickets are $30 at the door or $23 at Harvest Market before 5pm Friday. Admission is free. Come and listen to the music and enjoy the afternoon in Noyo Harbor.\n\nBBQ Starts at 11am and goes to 6 pm. No dogs allowed in the dinning area.For more information\, visit our website:Â http://www.salmonrestoration.com/\nor send an email to janischbythesea@comcast.net
X-ALT-DESC;FMTTYPE=text/html:<p>It's time for our annual The World's Largest Salmon Barbecue!</p><p>All proceeds are used to improve salmon populations on the Northern California coast\, see projects.<br /><br />BBQ Tickets are $30 at the door or $23 at Harvest Market before 5pm Friday. Admission is free. Come and listen to the music and enjoy the afternoon in Noyo Harbor.<br /><br />BBQ Starts at 11am and goes to 6 pm. No dogs allowed in the dinning area.</p><p>For more information\, visit our website:Â http://www.salmonrestoration.com/<br />or send an email to <a href="mailto:janischbythesea@comcast.net">janischbythesea@comcast.net</a></p><p><a href="mailto:janischbythesea@comcast.net"></a></p>
LOCATION:Noyo South Harbor Fort Bragg CA
UID:e.2883.392
SEQUENCE:3
DTSTAMP:20260422T194841Z
URL:https://mendocinocoast.com/events/details/the-world-s-largest-salmon-barbecue-12-11-2014-392
END:VEVENT

END:VCALENDAR
