BEGIN:VCALENDAR
VERSION:2.0
PRODID:-//ChamberMaster//Event Calendar 2.0//EN
METHOD:PUBLISH
X-PUBLISHED-TTL:P3D
REFRESH-INTERVAL:P3D
CALSCALE:GREGORIAN
BEGIN:VEVENT
DTSTART:20151113T190000Z
DTEND:20151114T000000Z
X-MICROSOFT-CDO-ALLDAYEVENT:FALSE
SUMMARY:The Thanksgiving DESSERT SALE
DESCRIPTION:Join The Mendocino Choir Boosters for The Thanksgiving Desert Sale. There will be cakes\, pies\, muffins\, tarts and cookies. It will on Tuesday Novemeber 24th from 10:00am to 3:00pm in front of HArvest at Mendosa's.
X-ALT-DESC;FMTTYPE=text/html:<p>Join The Mendocino Choir Boosters for The Thanksgiving Desert Sale. There will be cakes\, pies\, muffins\, tarts and cookies. It will on Tuesday Novemeber 24th from 10:00am to 3:00pm in front of HArvest at Mendosa's.</p>
LOCATION:Harvest at Mendosa's Mendocino CA
UID:e.2883.786
SEQUENCE:3
DTSTAMP:20260422T001027Z
URL:https://mendocinocoast.com/events/details/the-thanksgiving-dessert-sale-11-13-2015-786
END:VEVENT

END:VCALENDAR
