BEGIN:VCALENDAR
VERSION:2.0
PRODID:-//ChamberMaster//Event Calendar 2.0//EN
METHOD:PUBLISH
X-PUBLISHED-TTL:P3D
REFRESH-INTERVAL:P3D
CALSCALE:GREGORIAN
BEGIN:VEVENT
DTSTART:20140410T090000Z
DTEND:20140410T080000Z
X-MICROSOFT-CDO-ALLDAYEVENT:FALSE
SUMMARY:The Tall Ship Hawaiian Chieftain is visiting Fort Bragg
DESCRIPTION:The Tall Ship Hawaiian Chieftain is visiting Fort Bragg in April 10-13 2014. The ship will dock in Noyo Harbor. It includes exciting education programs\, dockside tours Thursday-Friday 4-5\, Dockside Tours Saturday & Sunday 10-1 \, Adventure Sails Sat.& Sun. 2-4\; Adventure Sails are a chance to sail on a real tall ship\, help raise a sail and learn a sea shanty. Education Programs show how 18th Century mariners explored the California Coast\,Scholarships for qualified schools are available. Dockside tours are a chance to explore a ship at the dock. Tickets go on sale in January 2014.
X-ALT-DESC;FMTTYPE=text/html:<p>The Tall Ship Hawaiian Chieftain is visiting Fort Bragg in April 10-13 2014. The ship will dock in Noyo Harbor. It includes exciting education programs\, dockside tours Thursday-Friday 4-5\, Dockside Tours Saturday &amp\; Sunday 10-1 \, Adventure Sails Sat.&amp\; Sun. 2-4\; Adventure Sails are a chance to sail on a real tall ship\, help raise a sail and learn a sea shanty. Education Programs show how 18th Century mariners explored the California Coast\,Scholarships for qualified schools are available. Dockside tours are a chance to explore a ship at the dock. Tickets go on sale in January 2014.</p>
LOCATION:Noyo Harbor Mendocino
UID:e.2883.82
SEQUENCE:3
DTSTAMP:20260423T100103Z
URL:https://mendocinocoast.com/events/details/the-tall-ship-hawaiian-chieftain-is-visiting-fort-bragg-04-10-2014-82
END:VEVENT

END:VCALENDAR
