BEGIN:VCALENDAR
VERSION:2.0
PRODID:-//ChamberMaster//Event Calendar 2.0//EN
METHOD:PUBLISH
X-PUBLISHED-TTL:P3D
REFRESH-INTERVAL:P3D
CALSCALE:GREGORIAN
BEGIN:VEVENT
DTSTART;VALUE=DATE:20141120
DTEND;VALUE=DATE:20141121
TRANSP:TRANSPARENT
X-MICROSOFT-CDO-ALLDAYEVENT:TRUE
SUMMARY:The Seventh Annual Lighted Boat Parade
DESCRIPTION:- UPDATE: Due to the weather forecast (heavy rain this afternoon)\, the Lighted Boat Parade will be postponed to Sunday. The same conditions apply:if it rains\, the parade will have to be postponed again. Information will be updated on this website and on the radio websites - Â The Seventh Annual Lighted Boat Parade will take place on Friday\, December 5th in Noyo Harbor. The Lost Coast Chapter of the Traditional Small Craft Association welcomes self-powered and motor boats to participate and meet us in front of the USCG Station Noyo between 5:30 and 6pm. To view the Parade\, please consider an early dinner at any of the fine restaurants in the harbor\, or you can park at Noyo Beach. The parade makes several passes between USCG Station Noyo and the Noyo Bridge between 6 and 7pm.Â  If it rains\, we will reschedule for Sunday\, December 7\, moving to the next Friday if it rains on Sunday. For information\, call Jim McDannold at 813-7644.
X-ALT-DESC;FMTTYPE=text/html:<p><span style="font-size: small\;">- <span style="text-decoration: underline\;"><strong>UPDATE:</strong></span> Due to the weather forecast (heavy rain this afternoon)\, the Lighted Boat Parade will be <strong>postponed to Sunday</strong>. The same conditions apply:</span><span style="font-size: small\;">if it rains\, the parade will have to be postponed again. Information will be updated on this website and on the radio websites - </span></p><p>Â </p><p><span style="font-family: comic sans ms\,sans-serif\; font-size: small\;"><strong>The Seventh Annual Lighted Boat Parade </strong>will take place on <span style="color: #800000\;">Friday\, December 5th</span> in Noyo Harbor. The Lost Coast Chapter of the Traditional Small Craft Association welcomes self-powered and motor boats to participate and meet us in front of the USCG Station Noyo between 5:30 and 6pm. To view the Parade\, please consider an early dinner at any of the fine restaurants in the harbor\, or you can park at Noyo Beach. The parade makes several passes between USCG Station Noyo and the Noyo Bridge between 6 and 7pm.Â  If it rains\, we will reschedule for Sunday\, December 7\, moving to the next Friday if it rains on Sunday. For information\, call Jim McDannold at 813-7644.</span></p>
LOCATION:Noyo Harbor Fort Bragg\, CA
UID:e.2883.379
SEQUENCE:3
DTSTAMP:20260422T195816Z
URL:https://mendocinocoast.com/events/details/the-seventh-annual-lighted-boat-parade-11-20-2014-379
END:VEVENT

END:VCALENDAR
