BEGIN:VCALENDAR
VERSION:2.0
PRODID:-//ChamberMaster//Event Calendar 2.0//EN
METHOD:PUBLISH
X-PUBLISHED-TTL:P3D
REFRESH-INTERVAL:P3D
CALSCALE:GREGORIAN
BEGIN:VEVENT
DTSTART:20151016T033000Z
DTEND:20151016T070000Z
X-MICROSOFT-CDO-ALLDAYEVENT:FALSE
SUMMARY:The Mighty T-Bones dance party
DESCRIPTION:Here's a great way to continue your Thanksgiving holiday celebration - dance till you drop! Rock'n Rhythm 'n' Blues with The Mighty T-Bones is just what you need. Come on out to the Hill House Inn at 10701 Palette Dr\, Mendocino for some great dancing' music on Saturday\, November 28.\n\nBand members are Michael Ward\, Michael Lono Bissen\, Ed Reinhart\, and Johnny Bush\, making nearly three decades of live music together and separately here on the coast.\n\nDoors open at 6PM with full bar and casual dining. Music at 7:30PM. $10 at the door. 707-937-0554
X-ALT-DESC;FMTTYPE=text/html:<p><span style="font-size:small\;">Here's a great way to continue your Thanksgiving holiday celebration - dance till you drop! Rock'n Rhythm 'n' Blues with The Mighty T-Bones is just what you need. Come on out to the Hill House Inn at 10701 Palette Dr\, Mendocino for some great dancing' music on Saturday\, November 28.</span><br /><br /><span style="font-size:small\;">Band members are Michael Ward\, Michael Lono Bissen\, Ed Reinhart\, and Johnny Bush\, making nearly three decades of live music together and separately here on the coast.</span><br /><br /><span style="font-size:small\;">Doors open at 6PM with full bar and casual dining. Music at 7:30PM. $10 at the door. 707-937-0554</span></p>
LOCATION:Hill House of Mendocino
UID:e.2883.756
SEQUENCE:3
DTSTAMP:20260422T015627Z
URL:https://mendocinocoast.com/events/details/the-mighty-t-bones-dance-party-10-15-2015-756
END:VEVENT

END:VCALENDAR
