BEGIN:VCALENDAR
VERSION:2.0
PRODID:-//ChamberMaster//Event Calendar 2.0//EN
METHOD:PUBLISH
X-PUBLISHED-TTL:P3D
REFRESH-INTERVAL:P3D
CALSCALE:GREGORIAN
BEGIN:VEVENT
DTSTART:20150114T180000Z
DTEND:20150114T220000Z
X-MICROSOFT-CDO-ALLDAYEVENT:FALSE
SUMMARY:The Merry Widow Live in HD Opera\, Point Arena Theater
DESCRIPTION:The Merry Widow Live in HD OperaThe great Renee Fleming stars as the beguiling femme fatale who captivates all Paris in Lehar's enchanting operetta\, seen in a new staging by Broadway virtuoso director and choreographer Susan Stroman (The Producers\, Oklahoma!\, Contact). $24 general/$22 for seniors. Doors at 9 a.m.\, show at 9:55 a.m. 707.882.3272 www.arenatheater.org
X-ALT-DESC;FMTTYPE=text/html:<p><strong>The Merry Widow Live in HD Opera</strong></p><p>The great Renee Fleming stars as the beguiling femme fatale who captivates all Paris in Lehar's enchanting operetta\, seen in a new staging by Broadway virtuoso director and choreographer Susan Stroman (The Producers\, Oklahoma!\, Contact). $24 general/$22 for seniors. Doors at 9 a.m.\, show at 9:55 a.m. 707.882.3272 www.arenatheater.org</p>
LOCATION:Arena Theater Point Arena
UID:e.2883.436
SEQUENCE:3
DTSTAMP:20260422T164101Z
URL:https://mendocinocoast.com/events/details/the-merry-widow-live-in-hd-opera-point-arena-theater-01-14-2015-436
END:VEVENT

END:VCALENDAR
