BEGIN:VCALENDAR
VERSION:2.0
PRODID:-//ChamberMaster//Event Calendar 2.0//EN
METHOD:PUBLISH
X-PUBLISHED-TTL:P3D
REFRESH-INTERVAL:P3D
CALSCALE:GREGORIAN
BEGIN:VEVENT
DTSTART:20150203T040000Z
DTEND:20150203T063000Z
X-MICROSOFT-CDO-ALLDAYEVENT:FALSE
SUMMARY:"The Hunger Games" at Gloriana Theatre
DESCRIPTION:"The Hunger Games" at Eagles Hall Theatre\, 210 N. Corry @ Alder Street\, Fort Bragg. 7 pm.Suggested donation is $3. Concessions available!By Gloriana Musical Theatre
X-ALT-DESC;FMTTYPE=text/html:<p>"The Hunger Games" at Eagles Hall Theatre\, 210 N. Corry @ Alder Street\, Fort Bragg. 7 pm.</p><p>Suggested donation is $3. Concessions available!</p><p>By Gloriana Musical Theatre</p>
LOCATION:Eagles Hall Theatre Fort Bragg\, CA
UID:e.2883.494
SEQUENCE:3
DTSTAMP:20260422T151304Z
URL:https://mendocinocoast.com/events/details/the-hunger-games-at-gloriana-theatre-02-02-2015-494
END:VEVENT

END:VCALENDAR
