BEGIN:VCALENDAR
VERSION:2.0
PRODID:-//ChamberMaster//Event Calendar 2.0//EN
METHOD:PUBLISH
X-PUBLISHED-TTL:P3D
REFRESH-INTERVAL:P3D
CALSCALE:GREGORIAN
BEGIN:VEVENT
DTSTART:20160114T043000Z
DTEND:20160114T070000Z
X-MICROSOFT-CDO-ALLDAYEVENT:FALSE
SUMMARY:The Groovinators\, blues\, jazz and swing
DESCRIPTION:Plan on a Pre-Valentine's dance with The Groovinators on Saturday\, February 13 at Hill House. The band consists of a core trio featuring guitarist/vocalist Earl Oliver - known throughout Northern California as the Walkin' Blues Man\, bassist Erick Kolberg - known for his work with the Gypsy Jazz band\, Swingnoodle\,and also The Swing Doctors\, and drummer\, Tom Rickard - a veteran jazz player who performs regularly with John Gilmore\, Queen Jane\, Dorian May\, and a host of other bands. The Trio plays a potent combination of original and traditional Blues\, Jazz\, and Swing rendered into their own inimitable style. We invite you to...Bring your dancing shoes!\n\nDoors open at 6PM for casual dining and full bar\, Music at 7:30PM. $10 at the door. 937-0554
X-ALT-DESC;FMTTYPE=text/html:<p>Plan on a Pre-Valentine's dance with The Groovinators on Saturday\, February 13 at Hill House. The band consists of a core trio featuring guitarist/vocalist Earl Oliver - known throughout Northern California as the Walkin' Blues Man\, bassist Erick Kolberg - known for his work with the Gypsy Jazz band\, Swingnoodle\,and also The Swing Doctors\, and drummer\, Tom Rickard - a veteran jazz player who performs regularly with John Gilmore\, Queen Jane\, Dorian May\, and a host of other bands. The Trio plays a potent combination of original and traditional Blues\, Jazz\, and Swing rendered into their own inimitable style. We invite you to...Bring your dancing shoes!<br /><br />Doors open at 6PM for casual dining and full bar\, Music at 7:30PM. $10 at the door. 937-0554</p>
LOCATION:Hill House of Mendocino
UID:e.2883.833
SEQUENCE:3
DTSTAMP:20260421T211249Z
URL:https://mendocinocoast.com/events/details/the-groovinators-blues-jazz-and-swing-01-13-2016-833
END:VEVENT

END:VCALENDAR
