BEGIN:VCALENDAR
VERSION:2.0
PRODID:-//ChamberMaster//Event Calendar 2.0//EN
METHOD:PUBLISH
X-PUBLISHED-TTL:P3D
REFRESH-INTERVAL:P3D
CALSCALE:GREGORIAN
BEGIN:VEVENT
DTSTART:20150516T010000Z
DTEND:20150516T020100Z
X-MICROSOFT-CDO-ALLDAYEVENT:FALSE
SUMMARY:The Durocher's Live Concert
DESCRIPTION:Come for a Fun time of inspiring worshiop and great family instrumentation! Â This family is loaded with talent and will be performing their oeriginal acoustic newgrass folk music. Â Bring your friends\, family and neighbors! Â You will love this energetic young band featuring creative originals and great covers. Â Spirited\, passionate\, demonstrating a robust musical creativity that is both rare and remarkable! Â This is one band you wikll not want to miss! 1450 E. Oak St. Â www.durocherfamilymusic.com Â  Youtube "thedurocherofficial" file:///Users/frontdesk/Desktop/GracecommunityONLINE.pdf
X-ALT-DESC;FMTTYPE=text/html:<p><span>Come for a Fun time of inspiring worshiop and great family instrumentation! Â This family is loaded with talent and will be performing their oeriginal acoustic newgrass folk music. Â Bring your friends\, family and neighbors! Â You will love this energetic young band featuring creative originals and great covers. Â Spirited\, passionate\, demonstrating a robust musical creativity that is both rare and remarkable! Â This is one band you wikll not want to miss! 1450 E. Oak St. Â www.durocherfamilymusic.com Â  Youtube "thedurocherofficial" file:///Users/frontdesk/Desktop/GracecommunityONLINE.pdf</span></p>
LOCATION:Grace Community Church Fort Bragg
UID:e.2883.628
SEQUENCE:3
DTSTAMP:20260422T101405Z
URL:https://mendocinocoast.com/events/details/the-durocher-s-live-concert-05-15-2015-628
END:VEVENT

END:VCALENDAR
