BEGIN:VCALENDAR
VERSION:2.0
PRODID:-//ChamberMaster//Event Calendar 2.0//EN
METHOD:PUBLISH
X-PUBLISHED-TTL:P3D
REFRESH-INTERVAL:P3D
CALSCALE:GREGORIAN
BEGIN:VEVENT
DTSTART;VALUE=DATE:20160113
DTEND;VALUE=DATE:20160114
TRANSP:TRANSPARENT
X-MICROSOFT-CDO-ALLDAYEVENT:TRUE
SUMMARY:The DIAMOND DANCE
DESCRIPTION:Â As many know\, the {former} Kiwanis Club of Fort Bragg held an annual Diamond Dinner\, with a grand prize of a $5\,000 diamond.Â  The Fort Bragg Lions have recently acquired the Kiwanisâ€™ Diamond bracelet ($5\,400 value) and wish to continue the annual tradition as a Dance and Raffle for the bracelet.Â  You do not need to be present to win!Ticket to the dance includes delicious desserts\, no-host bar\, silent auction and entry to win the bracelet. Fantastic dance music is provided by a favorite local LIVE band\, HIGHWAY ONE!Must be 18 years or older.Tickets:Â  $30 Per Person or $50 for Two.If you cannot attend the dance\, but wish to enter for a chance to win the bracelet the cost isÂ  $20 per entry.For tickets and/or to enter for a chance to win\, you may send your checks made out toThe Fort Bragg Lions\, P.O. Box 1547\, Fort Bragg\, CA 95437.You can also call 707-357-1889 or emailÂ fblions@mcn.org.Â  For more information visit:Â Â http://www.fortbragglionsclub.org/Events.html
X-ALT-DESC;FMTTYPE=text/html:<p>Â </p><blockquote><div><div lang="EN-US"><div><div>As many know\, the {former} Kiwanis Club of Fort Bragg held an annual Diamond Dinner\, with a grand prize of a $5\,000 diamond.Â  The Fort Bragg Lions have recently acquired the Kiwanisâ€™ Diamond bracelet ($5\,400 value) and wish to continue the annual tradition as a Dance and Raffle for the bracelet.Â  You do not need to be present to win!</div><div>Ticket to the dance includes delicious desserts\, no-host bar\, silent auction and entry to win the bracelet. Fantastic dance music is provided by a favorite local LIVE band\, HIGHWAY ONE!</div><div>Must be 18 years or older.</div><div>Tickets:Â  $30 Per Person or $50 for Two.</div><div>If you cannot attend the dance\, but wish to enter for a chance to win the bracelet the cost isÂ  $20 per entry.</div><div>For tickets and/or to enter for a chance to win\, you may send your checks made out to</div><div>The Fort Bragg Lions\, P.O. Box 1547\, Fort Bragg\, CA 95437.</div><div>You can also call 707-357-1889 or emailÂ <a href="mailto:fblions@mcn.org">fblions@mcn.org</a>.Â  For more information visit:Â Â <a href="http://www.fortbragglionsclub.org/Events.html">http://www.fortbragglionsclub.org/Events.html</a></div></div></div></div></blockquote>
LOCATION:Lions Hall Fort Bragg
UID:e.2883.829
SEQUENCE:3
DTSTAMP:20260421T205928Z
URL:https://mendocinocoast.com/events/details/the-diamond-dance-01-13-2016-829
END:VEVENT

END:VCALENDAR
