BEGIN:VCALENDAR
VERSION:2.0
PRODID:-//ChamberMaster//Event Calendar 2.0//EN
METHOD:PUBLISH
X-PUBLISHED-TTL:P3D
REFRESH-INTERVAL:P3D
CALSCALE:GREGORIAN
BEGIN:VEVENT
DTSTART;VALUE=DATE:20150514
DTEND;VALUE=DATE:20150515
TRANSP:TRANSPARENT
X-MICROSOFT-CDO-ALLDAYEVENT:TRUE
SUMMARY:The Dave Haskell Group
DESCRIPTION:For more information please visit us at www.ukiahconcerts.org\, or phone us at 707 463 2738.Â On Saturday May 30th\, the Ukiah Community Concert Association invites you to a very special event celebrating 67 seasons of bringing world renowned music andÂ entertainment to Ukiah. Tickets are $20 for non-members and youth are $5.00. Tickets are available at Mendocino Book Co.\, dig! Music\, Goodâ€™s Stamp Shop (Willits)\, and online atÂ ukiahconcerts.com. Admission for those who have purchased the 2015-16 season is free. This concert will be the last chance new members can purchase the 2015-16 season before the subscription price goes up. Purchase of the upcoming season will include this concert at no extra cost.Â
X-ALT-DESC;FMTTYPE=text/html:<p><span>For more information please visit us at </span><a href="http://www.ukiahconcerts.org/"><span>www.ukiahconcerts.org</span></a><span>\, or phone us at 707 463 2738.Â <span>On Saturday May 30th\, the Ukiah Community Concert Association invites you to a very special event celebrating 67 seasons of bringing world renowned music andÂ entertainment to Ukiah. </span></span></p><p>Tickets are $20 for non-members and youth are $5.00. Tickets are available at Mendocino Book Co.\, dig! Music\, Goodâ€™s Stamp Shop (Willits)\, and online atÂ <a href="http://ukiahconcerts.com/">ukiahconcerts.com</a>. Admission for those who have purchased the 2015-16 season is free. This concert will be the last chance new members can purchase the 2015-16 season before the subscription price goes up. Purchase of the upcoming season will include this concert at no extra cost.</p><p>Â </p>
LOCATION:SPACE Theater Ukiah
UID:e.2883.626
SEQUENCE:3
DTSTAMP:20260422T114804Z
URL:https://mendocinocoast.com/events/details/the-dave-haskell-group-05-14-2015-626
END:VEVENT

END:VCALENDAR
