BEGIN:VCALENDAR
VERSION:2.0
PRODID:-//ChamberMaster//Event Calendar 2.0//EN
METHOD:PUBLISH
X-PUBLISHED-TTL:P3D
REFRESH-INTERVAL:P3D
CALSCALE:GREGORIAN
BEGIN:VEVENT
DTSTART:20151102T180100Z
DTEND:20151103T010100Z
X-MICROSOFT-CDO-ALLDAYEVENT:FALSE
SUMMARY:Thankswimming Classic Swim Meet
DESCRIPTION:320 swimmers come to compete in an age group competitive meet. Snack shack\, silent auction\, and lots of "fast swimming". Nov. 21st and 22nd from 9am-4pm
X-ALT-DESC;FMTTYPE=text/html:<p>320 swimmers come to compete in an age group competitive meet. Snack shack\, silent auction\, and lots of "fast swimming". Nov. 21st and 22nd from 9am-4pm</p>
LOCATION:CV Star Community Center Fort Bragg
UID:e.2883.778
SEQUENCE:3
DTSTAMP:20260422T001000Z
URL:https://mendocinocoast.com/events/details/thankswimming-classic-swim-meet-11-02-2015-778
END:VEVENT

END:VCALENDAR
