BEGIN:VCALENDAR
VERSION:2.0
PRODID:-//ChamberMaster//Event Calendar 2.0//EN
METHOD:PUBLISH
X-PUBLISHED-TTL:P3D
REFRESH-INTERVAL:P3D
CALSCALE:GREGORIAN
BEGIN:VEVENT
DTSTART:20150110T050000Z
DTEND:20150110T080000Z
X-MICROSOFT-CDO-ALLDAYEVENT:FALSE
SUMMARY:Tango Mendocino
DESCRIPTION:Tango Mendocino is bringing Maldito Tango Duo\, The Bandoneon and Guitar of the Redwood Tango Ensemble. Live music starts at 8pm$10 at the door.Takes place at Greenwood Community Center\, 6075 S. Highway 1\, Elk.\nFor mor information\, visit the website:Â http://www.elkweb.org/Â
X-ALT-DESC;FMTTYPE=text/html:<p>Tango Mendocino is bringing Maldito Tango Duo\, The Bandoneon and Guitar of the Redwood Tango Ensemble. Live music starts at 8pm</p><p>$10 at the door.</p><p>Takes place at Greenwood Community Center\, 6075 S. Highway 1\, Elk.<br />For mor information\, visit the website:Â <a href="http://www.elkweb.org/" target="_blank">http://www.elkweb.org/</a></p><p>Â </p>
LOCATION:Greenwood Community Center Elk
UID:e.2883.432
SEQUENCE:3
DTSTAMP:20260422T163302Z
URL:https://mendocinocoast.com/events/details/tango-mendocino-01-09-2015-432
END:VEVENT

END:VCALENDAR
