BEGIN:VCALENDAR
VERSION:2.0
PRODID:-//ChamberMaster//Event Calendar 2.0//EN
METHOD:PUBLISH
X-PUBLISHED-TTL:P3D
REFRESH-INTERVAL:P3D
CALSCALE:GREGORIAN
BEGIN:VEVENT
DTSTART:20150205T010000Z
DTEND:20150205T020000Z
X-MICROSOFT-CDO-ALLDAYEVENT:FALSE
SUMMARY:Talk on Pomo Stories @ Point Arena Lighthouse
DESCRIPTION:Lcoal Pomo scholar Lori Laiwa Thomas (C. Phil.) in Native American Studies at University of California\, Davis\, will present her dissertation research "Stories of the Land\, Stories of the People: Connections between People and Place Through Central Pomo Language and Stories".Saturday\, Feb 21\, 4-5 pm\, Point Arena Lighthouse Fog Signal Building.\nCost: $5 per person.Please note: Seating is limited. Call 882-2809 to make a reservation.
X-ALT-DESC;FMTTYPE=text/html:<p>Lcoal Pomo scholar Lori Laiwa Thomas (C. Phil.) in Native American Studies at University of California\, Davis\, will present her dissertation research "Stories of the Land\, Stories of the People: Connections between People and Place Through Central Pomo Language and Stories".</p><p>Saturday\, Feb 21\, 4-5 pm\, Point Arena Lighthouse Fog Signal Building.<br />Cost: $5 per person.</p><p>Please note: Seating is limited. Call 882-2809 to make a reservation.</p>
LOCATION:Point Arena Lighthouse\, Fog Signal Building Point Arena\, CA
UID:e.2883.501
SEQUENCE:3
DTSTAMP:20260422T150925Z
URL:https://mendocinocoast.com/events/details/talk-on-pomo-stories-point-arena-lighthouse-02-04-2015-501
END:VEVENT

END:VCALENDAR
