BEGIN:VCALENDAR
VERSION:2.0
PRODID:-//ChamberMaster//Event Calendar 2.0//EN
METHOD:PUBLISH
X-PUBLISHED-TTL:P3D
REFRESH-INTERVAL:P3D
CALSCALE:GREGORIAN
BEGIN:VEVENT
DTSTART:20140511T040000Z
DTEND:20140511T060000Z
X-MICROSOFT-CDO-ALLDAYEVENT:FALSE
SUMMARY:Symphony Winter Concert
DESCRIPTION:Brahms\, Symphony #1Beethoven Triple ConcertoFeaturing: Roy Malan\, violinStephen Harrison\, celloMiles Graber\, piano
X-ALT-DESC;FMTTYPE=text/html:<p>Brahms\, Symphony #1</p><p>Beethoven Triple Concerto</p><p><em>Featuring: </em></p><p style="padding-left:30px\;"><em>Roy Malan\, violin</em></p><p style="padding-left:30px\;"><em>Stephen Harrison\, cello</em></p><p style="padding-left:30px\;"><em>Miles Graber\, piano</em></p><p><span style="text-decoration:underline\;"> </span></p>
LOCATION:Cotton Auditorium Fort Bragg
UID:e.2883.265
SEQUENCE:3
DTSTAMP:20260423T082516Z
URL:https://mendocinocoast.com/events/details/symphony-winter-concert-05-10-2014-265
END:VEVENT

END:VCALENDAR
