BEGIN:VCALENDAR
VERSION:2.0
PRODID:-//ChamberMaster//Event Calendar 2.0//EN
METHOD:PUBLISH
X-PUBLISHED-TTL:P3D
REFRESH-INTERVAL:P3D
CALSCALE:GREGORIAN
BEGIN:VEVENT
DTSTART:20140511T030000Z
DTEND:20140511T050000Z
X-MICROSOFT-CDO-ALLDAYEVENT:FALSE
SUMMARY:Symphony Spring Concert
DESCRIPTION:Mendelssohn\, The Hebrides OvertureGrieg\, Piano ConcertoFeaturing:James Dâ€™Leon\, pianoTchaikowsky\, Swan LakeMore information:Â http://www.symphonyoftheredwoods.org/
X-ALT-DESC;FMTTYPE=text/html:<p>Mendelssohn\, The Hebrides Overture</p><p>Grieg\, Piano Concerto</p><p><em>Featuring:</em></p><p style="padding-left: 30px\;"><em>James Dâ€™Leon\, piano</em></p><p>Tchaikowsky\, Swan Lake</p><p>More information:Â <a href="http://www.symphonyoftheredwoods.org/" target="_blank">http://www.symphonyoftheredwoods.org/</a></p>
LOCATION:Cotton Auditorium Fort Bragg
UID:e.2883.267
SEQUENCE:3
DTSTAMP:20260423T082357Z
URL:https://mendocinocoast.com/events/details/symphony-spring-concert-05-10-2014-267
END:VEVENT

END:VCALENDAR
