BEGIN:VCALENDAR
VERSION:2.0
PRODID:-//ChamberMaster//Event Calendar 2.0//EN
METHOD:PUBLISH
X-PUBLISHED-TTL:P3D
REFRESH-INTERVAL:P3D
CALSCALE:GREGORIAN
BEGIN:VEVENT
DTSTART:20150403T220000Z
DTEND:20150404T000000Z
X-MICROSOFT-CDO-ALLDAYEVENT:FALSE
SUMMARY:Symphony of the Redwoods Fall Concert
DESCRIPTION:Borodin: Overture to Prince IgorShostakovich: Hamlet Suite\, Op. 116aBruch: Violin Concerto #1 in G minor\, Op. 26\, featuring Yevgeny Kutik
X-ALT-DESC;FMTTYPE=text/html:Borodin: Overture to Prince IgorShostakovich: Hamlet Suite\, Op. 116aBruch: Violin Concerto #1 in G minor\, Op. 26\, featuring Yevgeny Kutik
LOCATION:Cotton Auditorium Fort Bragg
UID:e.2883.587
SEQUENCE:3
DTSTAMP:20260422T115255Z
URL:https://mendocinocoast.com/events/details/symphony-of-the-redwoods-fall-concert-04-03-2015-587
END:VEVENT

END:VCALENDAR
