BEGIN:VCALENDAR
VERSION:2.0
PRODID:-//ChamberMaster//Event Calendar 2.0//EN
METHOD:PUBLISH
X-PUBLISHED-TTL:P3D
REFRESH-INTERVAL:P3D
CALSCALE:GREGORIAN
BEGIN:VEVENT
DTSTART:20150403T040000Z
DTEND:20150403T060000Z
X-MICROSOFT-CDO-ALLDAYEVENT:FALSE
SUMMARY:Symphony of the Redwoods Fall Concert
DESCRIPTION:Borodin: Overture to Prince IgorShostakovich: Hamlet Suite\, Op. 116aBruch: Violin Concerto #1 in G minor\, Op. 26\, featuring Yevgeny Kutik
X-ALT-DESC;FMTTYPE=text/html:<p>Borodin: Overture to <em>Prince Igor</em></p><p>Shostakovich: <em>Hamlet </em>Suite\, Op. 116a</p><p>Bruch: Violin Concerto #1 in G minor\, Op. 26\, featuring Yevgeny Kutik</p>
LOCATION:Cotton Auditorium Fort Bragg
UID:e.2883.586
SEQUENCE:3
DTSTAMP:20260422T115254Z
URL:https://mendocinocoast.com/events/details/symphony-of-the-redwoods-fall-concert-04-02-2015-586
END:VEVENT

END:VCALENDAR
