BEGIN:VCALENDAR
VERSION:2.0
PRODID:-//ChamberMaster//Event Calendar 2.0//EN
METHOD:PUBLISH
X-PUBLISHED-TTL:P3D
REFRESH-INTERVAL:P3D
CALSCALE:GREGORIAN
BEGIN:VEVENT
DTSTART:20150120T000000Z
DTEND:20150120T030000Z
X-MICROSOFT-CDO-ALLDAYEVENT:FALSE
SUMMARY:Symphony of the Redwoods at Preston Hall
DESCRIPTION:OPUS Chamber Music Series: Ann Hubbard and Friends.The principal bassoonist of Symphony of the Redwoods presents a program which includes a small string group\, a woodwind quintet\, and a bassoon quartet! $20/General Admission\; Free Admission for 18 & under. The concert starts at 3 pm.At Preston Hall\, 44831 Main St.\, Mendocino. Call 707-964-0898 or go to www.symphonyoftheredwoods.org for more information.
X-ALT-DESC;FMTTYPE=text/html:<p>OPUS Chamber Music Series: Ann Hubbard and Friends.</p><p>The principal bassoonist of Symphony of the Redwoods presents a program which includes a small string group\, a woodwind quintet\, and a bassoon quartet! $20/General Admission\; Free Admission for 18 &amp\; under. The concert starts at 3 pm.</p><p>At Preston Hall\, 44831 Main St.\, Mendocino. Call 707-964-0898 or go to www.symphonyoftheredwoods.org for more information.</p>
LOCATION:Preston Hall Mendocino CA
UID:e.2883.447
SEQUENCE:3
DTSTAMP:20260422T163841Z
URL:https://mendocinocoast.com/events/details/symphony-of-the-redwoods-at-preston-hall-01-19-2015-447
END:VEVENT

END:VCALENDAR
