BEGIN:VCALENDAR
VERSION:2.0
PRODID:-//ChamberMaster//Event Calendar 2.0//EN
METHOD:PUBLISH
X-PUBLISHED-TTL:P3D
REFRESH-INTERVAL:P3D
CALSCALE:GREGORIAN
BEGIN:VEVENT
DTSTART:20140511T220000Z
DTEND:20140512T000000Z
X-MICROSOFT-CDO-ALLDAYEVENT:FALSE
SUMMARY:Symphony Fall Concert
DESCRIPTION:AN OPERATIC INTERLUDEBeethoven\, Leonora Overture #3Schubert\, Rosamunde entrâ€™acte #3Strauss\, Rosenkavalier waltzes Â  (arr. Doebber)Wagner\, Siegfriedâ€™s Rhine JourneyÂ Featuring the Community Chorus directed by Jenni Windsor:Verdi: Anvil chorus from La TraviataVerdi: BrindisiVerdi: E lâ€™Assiria una regina from NabuccoVerdi: Va pensiero\, sullâ€™allâ€™ali dorateVerdi: Gli Arredi Festivi \, NabuccoVerdi: Triumphal March & chorus\, Aida
X-ALT-DESC;FMTTYPE=text/html:<p><strong>AN OPERATIC INTERLUDE</strong></p><p>Beethoven\, Leonora Overture #3</p><p>Schubert\, Rosamunde entrâ€™acte #3</p><p>Strauss\, Rosenkavalier waltzes Â  (arr. Doebber)</p><p>Wagner\, Siegfriedâ€™s Rhine Journey</p><p>Â </p><p><em>Featuring the Community Chorus directed by Jenni Windsor:</em></p><p>Verdi: Anvil chorus from La Traviata</p><p>Verdi: Brindisi</p><p>Verdi: E lâ€™Assiria una regina from Nabucco</p><p>Verdi: Va pensiero\, sullâ€™allâ€™ali dorate</p><p>Verdi: Gli Arredi Festivi \, Nabucco</p><p>Verdi: Triumphal March &amp\; chorus\, Aida</p>
LOCATION:Cotton Auditorium Fort Bragg
UID:e.2883.264
SEQUENCE:3
DTSTAMP:20260423T095812Z
URL:https://mendocinocoast.com/events/details/symphony-fall-concert-05-11-2014-264
END:VEVENT

END:VCALENDAR
