BEGIN:VCALENDAR
VERSION:2.0
PRODID:-//ChamberMaster//Event Calendar 2.0//EN
METHOD:PUBLISH
X-PUBLISHED-TTL:P3D
REFRESH-INTERVAL:P3D
CALSCALE:GREGORIAN
BEGIN:VEVENT
DTSTART:20141231T053000Z
DTEND:20141231T093000Z
X-MICROSOFT-CDO-ALLDAYEVENT:FALSE
SUMMARY:Swingtet in the Weller House Ballroom
DESCRIPTION:Celebrate new year's eve with Queen Jane and her Swingtet at the beautiful Weller House Ballroom\, 524 Stewart St.\, Fort Bragg. There will be plenty of your favorite Jazz standards for your dancing and listening pleasure. Admission includes complimentary hors d'oeuvres during the evening\, and champagne at midnight. A beer and wine bar will benefit The Mendocino Coast Jazz Society scholarship fund. The time will be 8:30 to 12:30\, and admission will be $20. For more information call 707-937-2642.
X-ALT-DESC;FMTTYPE=text/html:<p>Celebrate new year's eve with Queen Jane and her Swingtet at the beautiful Weller House Ballroom\, 524 Stewart St.\, Fort Bragg. There will be plenty of your favorite Jazz standards for your dancing and listening pleasure. Admission includes complimentary hors d'oeuvres during the evening\, and champagne at midnight. A beer and wine bar will benefit The Mendocino Coast Jazz Society scholarship fund. The time will be 8:30 to 12:30\, and admission will be $20. For more information call 707-937-2642.</p>
LOCATION:Weller House Inn Fort Bragg CA
UID:e.2883.426
SEQUENCE:3
DTSTAMP:20260422T200350Z
URL:https://mendocinocoast.com/events/details/swingtet-in-the-weller-house-ballroom-12-30-2014-426
END:VEVENT

END:VCALENDAR
